BEGIN:VCALENDAR
VERSION:2.0
PRODID:-//ChamberMaster//Event Calendar 2.0//EN
METHOD:PUBLISH
X-PUBLISHED-TTL:P3D
REFRESH-INTERVAL:P3D
CALSCALE:GREGORIAN
BEGIN:VEVENT
DTSTART;VALUE=DATE:20190720
DTEND;VALUE=DATE:20190721
TRANSP:TRANSPARENT
X-MICROSOFT-CDO-ALLDAYEVENT:TRUE
SUMMARY:Round #13 at Grays Harbor Raceway
DESCRIPTION:Round #13 (*Dual Track Bonus) Special Guest Kenny Schrader at the Grays Harbor Raceway\n\n\nGrandstands Open at 5:30pm   Racing at 7:00pm\n\nSpecial Guest Modified Racer: Kenny Schrader\n\nhttp://www.graysharborraceway.com/news/?i=67692\n\n\nEvent Classes\n\n360 Sprint Cars\, Modifieds\, Street Stocks\, Outlaw Tuners
X-ALT-DESC;FMTTYPE=text/html:<h4 style="color: rgb(51\, 51\, 51)\; font-family: Arial\, sans-serif\; background-color: rgb(255\, 255\, 255)\; margin: 0px 0px 5px\; padding: 0px\; border: 0px\; outline: 0px\; vertical-align: baseline\; caret-color: rgb(255\, 255\, 255)\;"><font color="#000000" face="arial">Round #13 (*Dual Track Bonus) Special Guest Kenny Schrader at the Grays Harbor Raceway</font></h4>\n\n<div class="mdWrap" style="color: rgb(51\, 51\, 51)\; font-family: Arial\, sans-serif\; background-color: rgb(255\, 255\, 255)\; margin: 0px\; padding: 0px\; border: 0px\; outline: 0px\; vertical-align: baseline\; caret-color: rgb(255\, 255\, 255)\;">\n<p style="margin: 0px 0px 1em\; padding: 0px\; border: 0px\; outline: 0px\; font-style: inherit\; vertical-align: baseline\; line-height: 1.4\;"><font color="#000000" face="arial">Grandstands Open at 5:30pm &bull\; Racing at 7:00pm<br />\n<strong style="margin: 0px\; padding: 0px\; border: 0px\; outline: 0px\; font-style: inherit\; vertical-align: baseline\;">Special Guest Modified Racer: Kenny Schrader</strong></font></p>\n\n<p style="margin: 0px 0px 1em\; padding: 0px\; border: 0px\; outline: 0px\; font-style: inherit\; vertical-align: baseline\; line-height: 1.4\;"><font color="#000000" face="arial"><a href="http://www.graysharborraceway.com/news/?i=67692" style="color: rgb(86\, 154\, 189)\; margin: 0px\; padding: 0px\; border: 0px\; font-style: inherit\; vertical-align: baseline\; outline: none !important\;">http://www.graysharborraceway.com/news/?i=67692</a></font></p>\n</div>\n\n<div class="schEventClassWrap" style="color: rgb(51\, 51\, 51)\; font-family: Arial\, sans-serif\; background-color: rgb(255\, 255\, 255)\; margin: 0px\; padding: 0px\; border: 0px\; outline: 0px\; vertical-align: baseline\; caret-color: rgb(255\, 255\, 255)\;"><strong style="margin: 0px\; padding: 0px\; border: 0px\; outline: 0px\; font-style: inherit\; vertical-align: baseline\;"><font color="#000000" face="arial">Event Classes</font></strong>\n\n<div class="eventInfo" style="margin: 0px\; padding: 0px\; border: 0px\; outline: 0px\; font-style: inherit\; vertical-align: baseline\;"><font color="#000000" face="arial">360 Sprint Cars\, Modifieds\, Street Stocks\, Outlaw Tuners</font></div>\n</div>\n
LOCATION:Grays Harbor Raceway Elma\, WA
UID:e.26.12110
SEQUENCE:3
DTSTAMP:20260424T115132Z
URL:https://chamber.graysharbor.org/events/details/round-13-at-grays-harbor-raceway-12110
END:VEVENT

END:VCALENDAR
