BEGIN:VCALENDAR
VERSION:2.0
PRODID:-//ChamberMaster//Event Calendar 2.0//EN
METHOD:PUBLISH
X-PUBLISHED-TTL:P3D
REFRESH-INTERVAL:P3D
CALSCALE:GREGORIAN
BEGIN:VEVENT
DTSTART:20190810T230000Z
DTEND:20190811T020000Z
X-MICROSOFT-CDO-ALLDAYEVENT:FALSE
SUMMARY:Round #18 - Fair Race at the Grays Harbor Raceway
DESCRIPTION:Round #18 - FAIR RACE (Free Admission) 4pm Race Time\n\n\nFREE Grandstand Admission\n\nRaces start at 4pm\n\nFREE PAID Fair Admission.\n\n\nEvent Classes\n\nModifieds\, Street Stocks\, Outlaw Tuners
X-ALT-DESC;FMTTYPE=text/html:<h4 style="margin: 0px 0px 5px\; padding: 0px\; border: 0px\; outline: 0px\; font-family: Arial\; vertical-align: baseline\; font-size: 12px\; caret-color: rgb(255\, 255\, 255)\; color: rgb(255\, 255\, 255)\;"><span style="font-size:14px\;"><span style="font-family:arial\;"><span style="color:#000000\;">Round #18 - FAIR RACE (Free Admission) 4pm Race Time</span></span></span></h4>\n\n<div class="mdWrap" style="margin: 0px\; padding: 0px\; border: 0px\; outline: 0px\; font-family: Arial\; vertical-align: baseline\; caret-color: rgb(255\, 255\, 255)\; color: rgb(255\, 255\, 255)\; font-size: 12px\;">\n<p style="margin: 0px 0px 1em\; padding: 0px\; border: 0px\; outline: 0px\; font-style: inherit\; font-family: inherit\; vertical-align: baseline\; line-height: 1.4\;"><span style="font-size:14px\;"><span style="font-family:arial\;"><span style="color:#000000\;">FREE Grandstand Admission<br />\nRaces start at 4pm</span></span></span></p>\n\n<p style="margin: 0px 0px 1em\; padding: 0px\; border: 0px\; outline: 0px\; font-style: inherit\; font-family: inherit\; vertical-align: baseline\; line-height: 1.4\;"><span style="font-size:14px\;"><span style="font-family:arial\;"><span style="color:#000000\;">FREE PAID Fair Admission.</span></span></span></p>\n</div>\n\n<div class="schEventClassWrap" style="margin: 0px\; padding: 0px\; border: 0px\; outline: 0px\; font-family: Arial\; vertical-align: baseline\; caret-color: rgb(255\, 255\, 255)\; color: rgb(255\, 255\, 255)\; font-size: 12px\;"><span style="font-size:14px\;"><span style="font-family:arial\;"><span style="color:#000000\;"><strong style="margin: 0px\; padding: 0px\; border: 0px\; outline: 0px\; font-style: inherit\; font-family: inherit\; vertical-align: baseline\;">Event Classes</strong></span></span></span>\n\n<div class="eventInfo" style="margin: 0px\; padding: 0px\; border: 0px\; outline: 0px\; font-style: inherit\; font-family: inherit\; vertical-align: baseline\;">Modifieds\, Street Stocks\, Outlaw Tuners</div>\n</div>\n
LOCATION:32 Elma McCleary Rd Elma\, WA 98541
UID:e.26.12111
SEQUENCE:3
DTSTAMP:20260424T104454Z
URL:https://chamber.graysharbor.org/events/details/round-18-fair-race-at-the-grays-harbor-raceway-12111
END:VEVENT

END:VCALENDAR
