BEGIN:VCALENDAR
VERSION:2.0
PRODID:-//ChamberMaster//Event Calendar 2.0//EN
METHOD:PUBLISH
X-PUBLISHED-TTL:P3D
REFRESH-INTERVAL:P3D
CALSCALE:GREGORIAN
BEGIN:VEVENT
DTSTART:20190825T020000Z
DTEND:20190825T050000Z
X-MICROSOFT-CDO-ALLDAYEVENT:FALSE
SUMMARY:Round #21 at the Grays Harbor Raceway
DESCRIPTION:Round #21 at the Grays Harbor Raceway in Elma\n\n\nGrandstands Open at 5:30pm   Racing at 7:00pm\n\nEvent Classes\n\n\n\nNW Focus Midgets: Northwest Focus Midget Series\n\nModifieds\, Street Stocks\, Outlaw Tuners
X-ALT-DESC;FMTTYPE=text/html:<h4 style="color: rgb(51\, 51\, 51)\; font-family: Arial\, sans-serif\; background-color: rgb(255\, 255\, 255)\; margin: 0px 0px 5px\; padding: 0px\; border: 0px\; outline: 0px\; vertical-align: baseline\; caret-color: rgb(255\, 255\, 255)\;"><span style="font-size:14px\;"><font color="#000000" face="arial">Round #21 at the Grays Harbor Raceway in Elma</font></span></h4>\n\n<div class="mdWrap" style="color: rgb(51\, 51\, 51)\; font-family: Arial\, sans-serif\; background-color: rgb(255\, 255\, 255)\; margin: 0px\; padding: 0px\; border: 0px\; outline: 0px\; vertical-align: baseline\; caret-color: rgb(255\, 255\, 255)\;">\n<p style="margin: 0px 0px 1em\; padding: 0px\; border: 0px\; outline: 0px\; font-style: inherit\; vertical-align: baseline\; line-height: 1.4\;"><span style="font-size:14px\;"><font color="#000000" face="arial">Grandstands Open at 5:30pm &bull\; Racing at 7:00pm</font></span></p>\n\n<p style="margin: 0px 0px 1em\; padding: 0px\; border: 0px\; outline: 0px\; font-style: inherit\; vertical-align: baseline\; line-height: 1.4\;"><strong style="font-size: 14px\; margin: 0px\; padding: 0px\; border: 0px\; outline: 0px\; font-style: inherit\; vertical-align: baseline\;"><font color="#000000" face="arial">Event Classes</font></strong></p>\n</div>\n\n<div class="schEventClassWrap" style="color: rgb(51\, 51\, 51)\; font-family: Arial\, sans-serif\; background-color: rgb(255\, 255\, 255)\; margin: 0px\; padding: 0px\; border: 0px\; outline: 0px\; vertical-align: baseline\; caret-color: rgb(255\, 255\, 255)\;">\n<div class="eventInfo" style="margin: 0px\; padding: 0px\; border: 0px\; outline: 0px\; font-style: inherit\; vertical-align: baseline\;"><span style="font-size:14px\;"><font color="#000000" face="arial"><span style="margin: 0px\; padding: 0px\; border: 0px\; outline: 0px\; font-style: inherit\; vertical-align: baseline\;">NW Focus Midgets:</span>&nbsp\;Northwest Focus Midget Series</font></span></div>\n\n<div class="eventInfo" style="margin: 0px\; padding: 0px\; border: 0px\; outline: 0px\; font-style: inherit\; vertical-align: baseline\;"><span style="font-size:14px\;"><font color="#000000" face="arial">Modifieds\, Street Stocks\, Outlaw Tuners</font></span></div>\n</div>\n
LOCATION:32 Elma McCleary Rd Elma\, Washington 98541
UID:e.26.12113
SEQUENCE:3
DTSTAMP:20260424T104314Z
URL:https://chamber.graysharbor.org/events/details/round-21-at-the-grays-harbor-raceway-12113
END:VEVENT

END:VCALENDAR
