BEGIN:VCALENDAR
VERSION:2.0
PRODID:-//ChamberMaster//Event Calendar 2.0//EN
METHOD:PUBLISH
X-PUBLISHED-TTL:P3D
REFRESH-INTERVAL:P3D
CALSCALE:GREGORIAN
BEGIN:VEVENT
DTSTART:20180310T170000Z
DTEND:20180311T010000Z
X-MICROSOFT-CDO-ALLDAYEVENT:FALSE
SUMMARY:Rummage Sale
DESCRIPTION:All proceeds benefit local children in Foster Care. Lots of books and household items.
X-ALT-DESC;FMTTYPE=text/html:All proceeds benefit local children in Foster Care. Lots of books and household items.
LOCATION:American Legion Hall 112 West First Street Aberdeen
UID:e.26.9547
SEQUENCE:3
DTSTAMP:20260425T113205Z
URL:https://chamber.graysharbor.org/events/details/rummage-sale-9547
END:VEVENT

END:VCALENDAR
