BEGIN:VCALENDAR
VERSION:2.0
PRODID:-//ChamberMaster//Event Calendar 2.0//EN
METHOD:PUBLISH
X-PUBLISHED-TTL:P3D
REFRESH-INTERVAL:P3D
CALSCALE:GREGORIAN
BEGIN:VEVENT
DTSTART:20180113T050000Z
DTEND:20180113T090000Z
X-MICROSOFT-CDO-ALLDAYEVENT:FALSE
SUMMARY:RUMOR 6 at Quinault Beach Resort Casino!
DESCRIPTION:RUMOR 6 returns to rock the Beach Rock Lounge at Quinult Resort Casino Friday/Saturday January 12-13th! Performing top hits from artists such as Bruno Mars\, Journey\, Usher\, Luke Bryan\, Miranda Lambert\, Timberlake\, The Killers\, Walk the Moon\, Maroon 5\, DNCE\, Chainsmokers\, Calvin Harris\, Lady Gaga and more!
X-ALT-DESC;FMTTYPE=text/html:<span style="color: rgb(75\, 79\, 86)\; font-family: Helvetica\, Arial\, sans-serif\; font-size: 14px\; background-color: rgb(255\, 255\, 255)\;">RUMOR 6 returns to rock the Beach Rock Lounge at Quinult Resort Casino Friday/Saturday January 12-13th! Performing top hits from artists such as Bruno Mars\, Journey\, Usher\, Luke Bryan\, Miranda Lambert\, Timberlake\, The Killers\, Walk the Moon\, Maroon 5\, DNCE\, Chainsmokers\, Calvin Harris\, Lady Gaga and more!</span>
LOCATION:Quinault Beach Resort and Casino Ocean Shores\, WA
UID:e.26.9433
SEQUENCE:3
DTSTAMP:20260425T150057Z
URL:https://chamber.graysharbor.org/events/details/rumor-6-at-quinault-beach-resort-casino-9433
END:VEVENT

END:VCALENDAR
