BEGIN:VCALENDAR
VERSION:2.0
PRODID:-//ChamberMaster//Event Calendar 2.0//EN
METHOD:PUBLISH
X-PUBLISHED-TTL:P3D
REFRESH-INTERVAL:P3D
CALSCALE:GREGORIAN
BEGIN:VEVENT
DTSTART:20190707T160000Z
DTEND:20190707T210000Z
X-MICROSOFT-CDO-ALLDAYEVENT:FALSE
SUMMARY:Run Like the Wind 5k/10k/Half Marathon
DESCRIPTION:Head to the beach this Independence Day weekend for the 3rd annual Run Like the Wind running event in beautiful Westport\, WA! Now offering a half marathon course\, in addition to a 5k and 10k. For the first time\, the start and finish line will be at the Tackle Box on Westhaven Drive near the marina. The course will take runners to the Fisherman's Memorial and back to the Observation Tower and south on the Westport Light Trail system.\n\n\n\nParticipants will receive a swag bag\, race shirt (short sleeve for 5k/10k\, and long sleeve for half marathon)\, and a custom medal!
X-ALT-DESC;FMTTYPE=text/html:<span style="caret-color: rgb(29\, 33\, 41)\; color: rgb(29\, 33\, 41)\; font-family: system-ui\, -apple-system\, BlinkMacSystemFont\, &quot\;.SFNSText-Regular&quot\;\, sans-serif\; white-space: pre-wrap\;">Head to the beach this Independence Day weekend for the 3rd annual Run Like the Wind running event in beautiful Westport\, WA! Now offering a half marathon course\, in addition to a 5k and 10k. For the first time\, the start and finish line will be at the Tackle Box on Westhaven Drive near the marina. The course will take runners to the Fisherman&#39\;s Memorial and back to the Observation Tower and south on the Westport Light Trail system.</span><br style="caret-color: rgb(29\, 33\, 41)\; color: rgb(29\, 33\, 41)\; font-family: system-ui\, -apple-system\, BlinkMacSystemFont\, &quot\;.SFNSText-Regular&quot\;\, sans-serif\; white-space: pre-wrap\;" />\n<br style="caret-color: rgb(29\, 33\, 41)\; color: rgb(29\, 33\, 41)\; font-family: system-ui\, -apple-system\, BlinkMacSystemFont\, &quot\;.SFNSText-Regular&quot\;\, sans-serif\; white-space: pre-wrap\;" />\n<span style="caret-color: rgb(29\, 33\, 41)\; color: rgb(29\, 33\, 41)\; font-family: system-ui\, -apple-system\, BlinkMacSystemFont\, &quot\;.SFNSText-Regular&quot\;\, sans-serif\; white-space: pre-wrap\;">Participants will receive a swag bag\, race shirt (short sleeve for 5k/10k\, and long sleeve for half marathon)\, and a custom medal!</span>
LOCATION:Westport\, WA
UID:e.26.11989
SEQUENCE:3
DTSTAMP:20260424T104303Z
URL:https://chamber.graysharbor.org/events/details/run-like-the-wind-5k-10k-half-marathon-11989
END:VEVENT

END:VCALENDAR
