BEGIN:VCALENDAR
VERSION:2.0
PRODID:-//ChamberMaster//Event Calendar 2.0//EN
METHOD:PUBLISH
X-PUBLISHED-TTL:P3D
REFRESH-INTERVAL:P3D
CALSCALE:GREGORIAN
BEGIN:VEVENT
DTSTART;VALUE=DATE:20170623
DTEND;VALUE=DATE:20170626
TRANSP:TRANSPARENT
X-MICROSOFT-CDO-ALLDAYEVENT:TRUE
SUMMARY:Rusty Scupper's Pirate Daze
DESCRIPTION:Lots of fun for the whole family with with pirate themed festical celebrating pirates and ships!
X-ALT-DESC;FMTTYPE=text/html:Lots of fun for the whole family with with pirate themed festical celebrating pirates and ships!
LOCATION:Westport
UID:e.26.6561
SEQUENCE:3
DTSTAMP:20260426T015203Z
URL:https://chamber.graysharbor.org/events/details/rusty-scupper-s-pirate-daze-6561
END:VEVENT

END:VCALENDAR
