BEGIN:VCALENDAR
VERSION:2.0
PRODID:-//ChamberMaster//Event Calendar 2.0//EN
METHOD:PUBLISH
X-PUBLISHED-TTL:P3D
REFRESH-INTERVAL:P3D
CALSCALE:GREGORIAN
BEGIN:VEVENT
DTSTART;VALUE=DATE:20170923
DTEND;VALUE=DATE:20170925
TRANSP:TRANSPARENT
X-MICROSOFT-CDO-ALLDAYEVENT:TRUE
SUMMARY:Salmon Tales
DESCRIPTION:SALMON TALES  - Celebrating Westports favorite fish and the people who chase after them. Smoked salmon competition\, beer garden\, music\, games\, vendors and more on the grounds of the Westport Maritime Museum. For vendor sign up or more info call 360-581-3399
X-ALT-DESC;FMTTYPE=text/html:<strong>SALMON TALES </strong> - Celebrating Westports favorite fish and the people who chase after them. Smoked salmon competition\, beer garden\, music\, games\, vendors and more on the grounds of the Westport Maritime Museum. For vendor sign up or more info call 360-581-3399
LOCATION:Westport Maritime Museum 2201 Westhaven Dr. Westport\, WA 98595
UID:e.26.7635
SEQUENCE:3
DTSTAMP:20260425T213020Z
URL:https://chamber.graysharbor.org/events/details/salmon-tales-7635
END:VEVENT

END:VCALENDAR
