BEGIN:VCALENDAR
VERSION:2.0
PRODID:-//ChamberMaster//Event Calendar 2.0//EN
METHOD:PUBLISH
X-PUBLISHED-TTL:P3D
REFRESH-INTERVAL:P3D
CALSCALE:GREGORIAN
BEGIN:VEVENT
DTSTART;VALUE=DATE:20190628
DTEND;VALUE=DATE:20190701
TRANSP:TRANSPARENT
X-MICROSOFT-CDO-ALLDAYEVENT:TRUE
SUMMARY:Sand and Sawdust Festival
DESCRIPTION:The Ocean Shores/North Beach Chamber of Commerce kicks off the beginning of summer with the Annual Five Star Dealerships Sand and Sawdust Festival! Chain saw carvers\, sand castle building workshops\, food and beverages\, crafts\, and more. FREE admission at the Ocean Shores Convention Center. Professional and Semi- Professional chain saw carvers compete in the weekend long competition with live auctions each day. Ocean Shores Convention Center 120 W. Chance A La Mer\, Ocean Shores. For more information go to www.sandandsawdust.org
X-ALT-DESC;FMTTYPE=text/html:<span style="caret-color: rgb(29\, 33\, 41)\; color: rgb(29\, 33\, 41)\; font-family: system-ui\, -apple-system\, BlinkMacSystemFont\, &quot\;.SFNSText-Regular&quot\;\, sans-serif\; font-size: 14px\; white-space: pre-wrap\;">The Ocean Shores/North Beach Chamber of Commerce kicks off the beginning of summer with the Annual Five Star Dealerships Sand and Sawdust Festival! Chain saw carvers\, sand castle building workshops\, food and beverages\, crafts\, and more. FREE admission at the Ocean Shores Convention Center. Professional and Semi- Professional chain saw carvers compete in the weekend long competition with live auctions each day. Ocean Shores Convention Center 120 W. Chance A La Mer\, Ocean Shores. For more information go to </span><a data-lynx-mode="hover" href="https://l.facebook.com/l.php?u=http%3A%2F%2Fwww.sandandsawdust.org%2F%3Ffbclid%3DIwAR2rNjg9MXSlhX6-Z7PHllDzNqV-d1MmHrU-ex2hN_FLd_hk4AL8jejlbgo&amp\;h=AT0TDrvlq19E1vtnbubIJ4SIhFaHP76NQCEto43jY5ewzpU0SwWOO8yoiHeqmYfZH2QrqICmlANMTWM2_o3Z01lMLnqxnm_KqXKWqK9Tx-A3C36pWCaWEQ9cV4TomHn2F3v0VW_hLA" rel="nofollow noopener" style="color: rgb(54\, 88\, 153)\; cursor: pointer\; text-decoration: none\; font-family: system-ui\, -apple-system\, BlinkMacSystemFont\, &quot\;.SFNSText-Regular&quot\;\, sans-serif\; font-size: 14px\; white-space: pre-wrap\;" target="_blank">www.sandandsawdust.org</a><span style="caret-color: rgb(29\, 33\, 41)\; color: rgb(29\, 33\, 41)\; font-family: system-ui\, -apple-system\, BlinkMacSystemFont\, &quot\;.SFNSText-Regular&quot\;\, sans-serif\; font-size: 14px\; white-space: pre-wrap\;"> </span>
LOCATION:Ocean Shores\, WA
UID:e.26.11758
SEQUENCE:3
DTSTAMP:20260424T120848Z
URL:https://chamber.graysharbor.org/events/details/sand-and-sawdust-festival-11758
END:VEVENT

END:VCALENDAR
