BEGIN:VCALENDAR
VERSION:2.0
PRODID:-//ChamberMaster//Event Calendar 2.0//EN
METHOD:PUBLISH
X-PUBLISHED-TTL:P3D
REFRESH-INTERVAL:P3D
CALSCALE:GREGORIAN
BEGIN:VEVENT
DTSTART:20170623T190000Z
DTEND:20170625T190000Z
X-MICROSOFT-CDO-ALLDAYEVENT:FALSE
SUMMARY:Sand and Sawdust Festival
DESCRIPTION:Master and amateur sand and chainsaw competitions\, vendors and a lot of fun in Ocean Shores!
X-ALT-DESC;FMTTYPE=text/html:Master and amateur sand and chainsaw competitions\, vendors and a lot of fun in Ocean Shores!
LOCATION:Ocean Shores\, WA
UID:e.26.7593
SEQUENCE:3
DTSTAMP:20260426T020645Z
URL:https://chamber.graysharbor.org/events/details/sand-and-sawdust-festival-7593
END:VEVENT

END:VCALENDAR
