BEGIN:VCALENDAR
VERSION:2.0
PRODID:-//ChamberMaster//Event Calendar 2.0//EN
METHOD:PUBLISH
X-PUBLISHED-TTL:P3D
REFRESH-INTERVAL:P3D
CALSCALE:GREGORIAN
BEGIN:VEVENT
DTSTART:20171217T210000Z
DTEND:20171217T230000Z
X-MICROSOFT-CDO-ALLDAYEVENT:FALSE
SUMMARY:Santa at Cosmopolis Fire Dept.
DESCRIPTION:Come see santa Sunday December 17th from 1:00pm to 3:00pm!
X-ALT-DESC;FMTTYPE=text/html:<span style="color: rgb(75\, 79\, 86)\; font-family: Helvetica\, Arial\, sans-serif\; font-size: 14px\; background-color: rgb(255\, 255\, 255)\;">Come see santa Sunday December 17th from 1:00pm to 3:00pm!</span>
LOCATION:Cosmopolis Volunteer Fire Dept. Cosmopolis\, WA
UID:e.26.9403
SEQUENCE:3
DTSTAMP:20260425T163750Z
URL:https://chamber.graysharbor.org/events/details/santa-at-cosmopolis-fire-dept-9403
END:VEVENT

END:VCALENDAR
