BEGIN:VCALENDAR
VERSION:2.0
PRODID:-//ChamberMaster//Event Calendar 2.0//EN
METHOD:PUBLISH
X-PUBLISHED-TTL:P3D
REFRESH-INTERVAL:P3D
CALSCALE:GREGORIAN
BEGIN:VEVENT
DTSTART:20181201T163000Z
DTEND:20181201T190000Z
X-MICROSOFT-CDO-ALLDAYEVENT:FALSE
SUMMARY:Santa Breakfast and Tree Auction
DESCRIPTION:Come support the Bear Festival's annual Santa Breakfast fundraiser! Bring the family for breakfast\, get a photo with Santa and bid on a decorated Christmas tree in the Tree Auction.
X-ALT-DESC;FMTTYPE=text/html:<div class="_63ew" data-testid="event-permalink-details" style="background-color: transparent\; color: rgb(29\, 33\, 41)\; font-family: Helvetica\,Arial\,sans-serif\; font-size: 14px\; font-style: normal\; font-variant: normal\; font-weight: 400\; letter-spacing: normal\; orphans: 2\; text-align: left\; text-decoration: none\; text-indent: 0px\; text-transform: none\; -webkit-text-stroke-width: 0px\; white-space: normal\; word-spacing: 0px\;"><span style="font-family: Helvetica\,Arial\,sans-serif\;">Come support the Bear Festival&#39\;s annual Santa Breakfast fundraiser! Bring the family for breakfast\, get a photo with Santa and bid on a decorated Christmas tree in the Tree Auction.</span></div>\n
LOCATION:McCleary VFW McCleary\, Washington 98541
UID:e.26.11328
SEQUENCE:3
DTSTAMP:20260424T224043Z
URL:https://chamber.graysharbor.org/events/details/santa-breakfast-and-tree-auction-11328
END:VEVENT

END:VCALENDAR
