BEGIN:VCALENDAR
VERSION:2.0
PRODID:-//ChamberMaster//Event Calendar 2.0//EN
METHOD:PUBLISH
X-PUBLISHED-TTL:P3D
REFRESH-INTERVAL:P3D
CALSCALE:GREGORIAN
BEGIN:VEVENT
DTSTART:20181201T183000Z
DTEND:20181201T230000Z
X-MICROSOFT-CDO-ALLDAYEVENT:FALSE
SUMMARY:Santa by the Sea
DESCRIPTION:Yo ho ho mateys! Tis the season to join the South Beach Buccaneers as they welcome Santa to the Westport Marina\, 10:30 am the first Saturday of December. Delivered to shore by the US Coast Guard\, he will be escorted to the Destruction Island Lighthouse Lens Exhibit Hall on the grounds of the Westport Maritime Museum by cheering children and the Westport Fire Department. You can visit Santa in the Lens Building\; bring your camera and capture the fun. Next door at McCausland Hall\, you can party with the Pirates\, enjoy free refreshments\, play "Walk the Plank" for prizes and shop at the Kids only store.
X-ALT-DESC;FMTTYPE=text/html:<span style="color: rgb(0\, 51\, 102)\; font-family: arial\; font-size: 16px\; background-color: rgb(234\, 223\, 191)\;">Yo ho ho mateys! Tis the season to join the South Beach Buccaneers as they welcome Santa to the Westport Marina\, 10:30 am the first Saturday of December. Delivered to shore by the US Coast Guard\, he will be escorted to the Destruction Island Lighthouse Lens Exhibit Hall on the grounds of the Westport Maritime Museum by cheering children and the Westport Fire Department. You can visit Santa in the Lens Building\; bring your camera and capture the fun. Next door at McCausland Hall\, you can party with the Pirates\, enjoy free refreshments\, play &quot\;Walk the Plank&quot\; for prizes and shop at the Kids only store.</span>
LOCATION:Westport\, WA
UID:e.26.11230
SEQUENCE:3
DTSTAMP:20260424T210748Z
URL:https://chamber.graysharbor.org/events/details/santa-by-the-sea-11230
END:VEVENT

END:VCALENDAR
