BEGIN:VCALENDAR
VERSION:2.0
PRODID:-//ChamberMaster//Event Calendar 2.0//EN
METHOD:PUBLISH
X-PUBLISHED-TTL:P3D
REFRESH-INTERVAL:P3D
CALSCALE:GREGORIAN
BEGIN:VEVENT
DTSTART;VALUE=DATE:20171202
DTEND;VALUE=DATE:20171203
TRANSP:TRANSPARENT
X-MICROSOFT-CDO-ALLDAYEVENT:TRUE
SUMMARY:Santa by the Sea
DESCRIPTION:SANTA BY THE SEA -\n\nYo ho ho mateys! Tis the season to join the South Beach Buccaneers as they welcome Santa to the Westport Marina\, 10:30 am the first Saturday of December. Delivered to shore by the US Coast Guard\, he will be escorted to the Destruction Island Lighthouse Lens Exhibit Hall on the grounds of the Westport Maritime Museum by cheering children and the Westport Fire Department. You can visit Santa in the Lens Building\; bring your camera and capture the fun. Next door\, at McCausland Hall\, you can party with the Pirates\, enjoy free refreshments\, play "Walk the Plank" for prizes and shop at the Kids only store. call (253) 381-5989. For photos from previous years\, Click Here.
X-ALT-DESC;FMTTYPE=text/html:SANTA BY THE SEA -<br />\nYo ho ho mateys! Tis the season to join the South Beach Buccaneers as they welcome Santa to the Westport Marina\, 10:30 am the first Saturday of December. Delivered to shore by the US Coast Guard\, he will be escorted to the Destruction Island Lighthouse Lens Exhibit Hall on the grounds of the Westport Maritime Museum by cheering children and the Westport Fire Department. You can visit Santa in the Lens Building\; bring your camera and capture the fun. Next door\, at McCausland Hall\, you can party with the Pirates\, enjoy free refreshments\, play &quot\;Walk the Plank&quot\; for prizes and shop at the Kids only store. call (253) 381-5989. For photos from previous years\, <a href="http://www.westportgrayland-chamber.org/photos_santa_by_the_sea.php"><font color="#0066cc">Click Here</font></a>.
LOCATION:Westport Marina
UID:e.26.7637
SEQUENCE:3
DTSTAMP:20260425T163838Z
URL:https://chamber.graysharbor.org/events/details/santa-by-the-sea-7637
END:VEVENT

END:VCALENDAR
