BEGIN:VCALENDAR
VERSION:2.0
PRODID:-//ChamberMaster//Event Calendar 2.0//EN
METHOD:PUBLISH
X-PUBLISHED-TTL:P3D
REFRESH-INTERVAL:P3D
CALSCALE:GREGORIAN
BEGIN:VEVENT
DTSTART:20191207T180000Z
DTEND:20191208T000000Z
X-MICROSOFT-CDO-ALLDAYEVENT:FALSE
SUMMARY:Santa~by~the~Sea Christmas Bazaar & Santa
DESCRIPTION:Come out to Westport for a day of fun!\n\nSee Santa in the Lens Hall from 10:30-1:00 then head on over to McCausland Hall for our annual Christmas bazaar and bake sale!\n\nWe will have many local vendors with a variety of crafts and holiday items\, a bake sale with lots of goodies\, hot chocolate and free coffee! \n\nSanta's workshop will be at the Tackle Box at the end of Westhaven Drive.
X-ALT-DESC;FMTTYPE=text/html:<span style="font-size:14px\;"><span style="caret-color: rgb(29\, 33\, 41)\; color: rgb(29\, 33\, 41)\; font-family: system-ui\, -apple-system\, BlinkMacSystemFont\, &quot\;.SFNSText-Regular&quot\;\, sans-serif\; white-space: pre-wrap\;">Come out to Westport for a day of fun!</span><br style="caret-color: rgb(29\, 33\, 41)\; color: rgb(29\, 33\, 41)\; font-family: system-ui\, -apple-system\, BlinkMacSystemFont\, &quot\;.SFNSText-Regular&quot\;\, sans-serif\; white-space: pre-wrap\;" />\n<span style="caret-color: rgb(29\, 33\, 41)\; color: rgb(29\, 33\, 41)\; font-family: system-ui\, -apple-system\, BlinkMacSystemFont\, &quot\;.SFNSText-Regular&quot\;\, sans-serif\; white-space: pre-wrap\;">See Santa in the Lens Hall from 10:30-1:00 then head on over to McCausland Hall for our annual Christmas bazaar and bake sale!</span><br style="caret-color: rgb(29\, 33\, 41)\; color: rgb(29\, 33\, 41)\; font-family: system-ui\, -apple-system\, BlinkMacSystemFont\, &quot\;.SFNSText-Regular&quot\;\, sans-serif\; white-space: pre-wrap\;" />\n<span style="caret-color: rgb(29\, 33\, 41)\; color: rgb(29\, 33\, 41)\; font-family: system-ui\, -apple-system\, BlinkMacSystemFont\, &quot\;.SFNSText-Regular&quot\;\, sans-serif\; white-space: pre-wrap\;">We will have many local vendors with a variety of crafts and holiday items\, a bake sale with lots of goodies\, hot chocolate and free coffee! </span><br style="caret-color: rgb(29\, 33\, 41)\; color: rgb(29\, 33\, 41)\; font-family: system-ui\, -apple-system\, BlinkMacSystemFont\, &quot\;.SFNSText-Regular&quot\;\, sans-serif\; white-space: pre-wrap\;" />\n<span style="caret-color: rgb(29\, 33\, 41)\; color: rgb(29\, 33\, 41)\; font-family: system-ui\, -apple-system\, BlinkMacSystemFont\, &quot\;.SFNSText-Regular&quot\;\, sans-serif\; white-space: pre-wrap\;">Santa&#39\;s workshop will be at the Tackle Box at the end of Westhaven Drive. </span></span>
LOCATION:pin Westport Maritime Museum 2201 Westhaven Dr\, Westport\, Washington 98595
UID:e.26.12290
SEQUENCE:3
DTSTAMP:20260424T025954Z
URL:https://chamber.graysharbor.org/events/details/santa-by-the-sea-christmas-bazaar-santa-12290
END:VEVENT

END:VCALENDAR
