BEGIN:VCALENDAR
VERSION:2.0
PRODID:-//ChamberMaster//Event Calendar 2.0//EN
METHOD:PUBLISH
X-PUBLISHED-TTL:P3D
REFRESH-INTERVAL:P3D
CALSCALE:GREGORIAN
BEGIN:VEVENT
DTSTART:20181202T013000Z
DTEND:20181202T043000Z
X-MICROSOFT-CDO-ALLDAYEVENT:FALSE
SUMMARY:Santa Clause is Comin' to Shores!
DESCRIPTION:Join us at Oyhut Bay in the Village Square for Holiday Music\, Hot Cocoa and a Tree Lighting\, followed by a meet & greet with Santa in Santa's Village!
X-ALT-DESC;FMTTYPE=text/html:<span style="display: inline !important\; float: none\; background-color: transparent\; color: rgb(29\, 33\, 41)\; font-family: Helvetica\,Arial\,sans-serif\; font-size: 14px\; font-style: normal\; font-variant: normal\; font-weight: 400\; letter-spacing: normal\; orphans: 2\; text-align: left\; text-decoration: none\; text-indent: 0px\; text-transform: none\; -webkit-text-stroke-width: 0px\; white-space: normal\; word-spacing: 0px\;">Join us at Oyhut Bay in the Village Square for Holiday Music\, Hot Cocoa and a Tree Lighting\, followed by a meet &amp\; greet with Santa in Santa&rsquo\;s Village!</span>
LOCATION:Oyhut Bay Ocean Shores\, WA
UID:e.26.11338
SEQUENCE:3
DTSTAMP:20260424T210958Z
URL:https://chamber.graysharbor.org/events/details/santa-clause-is-comin-to-shores-11338
END:VEVENT

END:VCALENDAR
