BEGIN:VCALENDAR
VERSION:2.0
PRODID:-//ChamberMaster//Event Calendar 2.0//EN
METHOD:PUBLISH
X-PUBLISHED-TTL:P3D
REFRESH-INTERVAL:P3D
CALSCALE:GREGORIAN
BEGIN:VEVENT
DTSTART:20170930T190000Z
DTEND:20171001T020000Z
X-MICROSOFT-CDO-ALLDAYEVENT:FALSE
SUMMARY:Saron Lutheran Oktoberfest
DESCRIPTION:Saron Lutheran Church and First Presbyterian of Hoquiam are hosting an Oktoberfest on Saturday\, September 30th\, 2017 from 12:00-7:00 pm.\n\n\n\nThe celebration will be held at Saron\, located at 708 8th Street in Hoquiam. Tickets are $20 per adult and $10 per youth. The cost of the ticket covers entry into a door prize drawing\, live entertainment\, nonalcoholic drinks\, and a large German themed meal. Beer and wine will be available for purchase. Local musicians scheduled to perform include Christine Hill\, Ken Albert\, Jetta Smith\, Connor Nukols\, and more. Tickets may be purchased at Harbor Drug and Gifts\, Saron Lutheran Church or at the door.\n\n\n\nAll money raised will be used to help our neighbors in the Grays Harbor community. Projects include expanding 1st Presbyterian's facility into a larger community garden\, purchasing hygiene and school items for distribution by local churches and nonprofits\, other assistance for families and neighbors in need\, and funding Saron's new monthly after school and free dinner program. This new program takes place on the second Wednesday of every month. On those evenings\, Saron will be providing after school activities and homework help for students starting at 1:30 pm. A free community dinner will be offered from 5:30   6:30. All are welcome. For more information\, please contact Saron Lutheran Church at 360-532-4611.
X-ALT-DESC;FMTTYPE=text/html:Saron Lutheran Church and First Presbyterian of Hoquiam are hosting an Oktoberfest on Saturday\, September 30th\, 2017 from 12:00-7:00 pm.<br />\n<br />\nThe celebration will be held at Saron\, located at 708 8th Street in Hoquiam. Tickets are $20 per adult and $10 per youth. The cost of the ticket covers entry into a door prize drawing\, live entertainment\, nonalcoholic drinks\, and a large German themed meal. Beer and wine will be available for purchase. Local musicians scheduled to perform include Christine Hill\, Ken Albert\, Jetta Smith\, Connor Nukols\, and more. Tickets may be purchased at Harbor Drug and Gifts\, Saron Lutheran Church or at the door.<br />\n<br />\nAll money raised will be used to help our neighbors in the Grays Harbor community. Projects include expanding 1st Presbyterian&rsquo\;s facility into a larger community garden\, purchasing hygiene and school items for distribution by local churches and nonprofits\, other assistance for families and neighbors in need\, and funding Saron&rsquo\;s new monthly after school and free dinner program. This new program takes place on the second Wednesday of every month. On those evenings\, Saron will be providing after school activities and homework help for students starting at 1:30 pm. A free community dinner will be offered from 5:30 &ndash\; 6:30. All are welcome. For more information\, please contact Saron Lutheran Church at 360-532-4611.
LOCATION:Saron Lutheran Church 708 8th St. Hoquiam
UID:e.26.8219
SEQUENCE:3
DTSTAMP:20260425T230345Z
URL:https://chamber.graysharbor.org/events/details/saron-lutheran-oktoberfest-8219
END:VEVENT

END:VCALENDAR
