BEGIN:VCALENDAR
VERSION:2.0
PRODID:-//ChamberMaster//Event Calendar 2.0//EN
METHOD:PUBLISH
X-PUBLISHED-TTL:P3D
REFRESH-INTERVAL:P3D
CALSCALE:GREGORIAN
BEGIN:VEVENT
DTSTART:20171029T050000Z
DTEND:20171028T210000Z
X-MICROSOFT-CDO-ALLDAYEVENT:FALSE
SUMMARY:Saron Lutheran's Autumn Bazaar
DESCRIPTION:Saron Lutheran's Autumn Bazaar\n\nItems being sold are Scandinavian and other pastries\, handmade crafts and quilts\, candy\, art pieces and more. There will be a lunch available of wonderful homemade soup\, rolls\, and apple pie. Funds go to supporting the Martha's Circle Ministry at Saron. They give money for church projects and ministries\, to local and national nonprofits (i.e. food banks\, Lutheran Disaster Relief for Puerto Rico\, etc.)\, and have helped with scholarships for local students in the past.
X-ALT-DESC;FMTTYPE=text/html:<h1 class="_5gmx" data-testid="event-permalink-event-name" id="seo_h1_tag" style="color: rgb(29\, 33\, 41)\; font-size: 20px\; margin: 0px 12px 0px 0px\; padding: 0px\; font-weight: normal\; line-height: 28px\; font-family: Helvetica\, Arial\, sans-serif\; background-color: rgb(255\, 255\, 255)\;">Saron Lutheran&#39\;s Autumn Bazaar</h1>\n\n<div class="_2qgs" style="color: rgb(75\, 79\, 86)\; padding: 12px\; position: relative\; border-top: none\; font-family: Helvetica\, Arial\, sans-serif\; font-size: 12px\;"><span class="_4n-j _fbReactionComponent__eventDetailsContentTags fsl" data-testid="event-permalink-details" style="font-size: 14px\; font-family: inherit\;">Items being sold are Scandinavian and other pastries\, handmade crafts and quilts\, candy\, art pieces and more. There will be a lunch available of wonderful homemade soup\, rolls\, and apple pie. Funds go to supporting the Martha&#39\;s Circle Ministry at Saron. They give money for church projects and ministries\, to local and national nonprofits (i.e. food banks\, Lutheran Disaster Relief for Puerto Rico\, etc.)\, and have helped with scholarships for local students in the past.</span></div>\n\n<div class="_1r51" style="line-height: 24px\; margin: 4px 12px 12px\; min-height: 24px\; font-family: Helvetica\, Arial\, sans-serif\; color: rgb(29\, 33\, 41)\; font-size: 12px\;">\n<ul class="uiList uiCollapsedList uiCollapsedListHidden _509- _4ki" id="u_jsonp_15_o" style="list-style-type: none\; margin: 0px\; padding: 0px\;"><br />\n	&nbsp\;\n</ul>\n</div>\n
LOCATION:Saron Lutheran Church 708 8th St. Hoquiam\, WA
UID:e.26.8279
SEQUENCE:3
DTSTAMP:20260425T200147Z
URL:https://chamber.graysharbor.org/events/details/saron-lutheran-s-autumn-bazaar-8279
END:VEVENT

END:VCALENDAR
