BEGIN:VCALENDAR
VERSION:2.0
PRODID:-//ChamberMaster//Event Calendar 2.0//EN
METHOD:PUBLISH
X-PUBLISHED-TTL:P3D
REFRESH-INTERVAL:P3D
CALSCALE:GREGORIAN
BEGIN:VEVENT
DTSTART:20170630T220000Z
DTEND:20170701T000000Z
X-MICROSOFT-CDO-ALLDAYEVENT:FALSE
SUMMARY:Satsop Business Park Tour
DESCRIPTION:A guided tour at Satsop Business Park where participants can explore the assets the park has to offer\, including the cooling towers\, tunnel training facility\, warehouses and office buildings.
X-ALT-DESC;FMTTYPE=text/html:A guided tour at Satsop Business Park where participants can explore the assets the park has to offer\, including the cooling towers\, tunnel training facility\, warehouses and office buildings.
LOCATION:Satsop Business Park 150 Technology Lane Elma\, WA
UID:e.26.7619
SEQUENCE:3
DTSTAMP:20260426T033010Z
URL:https://chamber.graysharbor.org/events/details/satsop-business-park-tour-7619
END:VEVENT

END:VCALENDAR
