BEGIN:VCALENDAR
VERSION:2.0
PRODID:-//ChamberMaster//Event Calendar 2.0//EN
METHOD:PUBLISH
X-PUBLISHED-TTL:P3D
REFRESH-INTERVAL:P3D
CALSCALE:GREGORIAN
BEGIN:VEVENT
DTSTART:20170506T190000Z
DTEND:20170507T000000Z
X-MICROSOFT-CDO-ALLDAYEVENT:FALSE
SUMMARY:Savor Seabrook Wine & Food Festival
DESCRIPTION:Farmers market\, winery and seafood vendors\, and entertainment!
X-ALT-DESC;FMTTYPE=text/html:Farmers market\, winery and seafood vendors\, and entertainment!
LOCATION:Seabrook Pacific Beach\, WA
UID:e.26.6520
SEQUENCE:3
DTSTAMP:20260426T033220Z
URL:https://chamber.graysharbor.org/events/details/savor-seabrook-wine-food-festival-6520
END:VEVENT

END:VCALENDAR
