BEGIN:VCALENDAR
VERSION:2.0
PRODID:-//ChamberMaster//Event Calendar 2.0//EN
METHOD:PUBLISH
X-PUBLISHED-TTL:P3D
REFRESH-INTERVAL:P3D
CALSCALE:GREGORIAN
BEGIN:VEVENT
DTSTART:20190301T020000Z
DTEND:20190301T030000Z
X-MICROSOFT-CDO-ALLDAYEVENT:FALSE
SUMMARY:Science Cafe: Dark Matter and the Dinosaurs
DESCRIPTION:Join us for a video presentation of the University of Washington's Lecture\, "Dark Matter and the Dinosaurs" by Lisa Randall. Lisa Randall studies theoretical particle physics and cosmology at Harvard University\, where she is a Frank J. Baird\, Jr. Professor of Science. Her latest book\, "Dark Matter and the Dinosaurs"\, is a sweeping evolution of the Universe\, the Milky Way\, the Solar System and of life.
X-ALT-DESC;FMTTYPE=text/html:<span style="font-size: 11.5pt\; line-height: 23px\; font-family: &quot\;Times New Roman&quot\;\, serif\; color: rgb(0\, 32\, 0)\;">J</span><span style="font-size: 11.5pt\; line-height: 23px\; font-family: &quot\;Times New Roman&quot\;\, serif\;">oin us for a video presentation of the University of Washington&#39\;s Lecture\, &quot\;Dark Matter and the Dinosaurs&quot\; by Lisa Randall. Lisa Randall studies theoretical particle physics and cosmology at Harvard University\, where she is a Frank J. Baird\, Jr. Professor of Science. Her latest book\, &quot\;Dark Matter and the Dinosaurs&quot\;\, is a sweeping evolution of the Universe\, the Milky Way\, the Solar System and of life.</span>
LOCATION:McCleary Library 121 S 4th St. McCleary\, WA 98557
UID:e.26.11754
SEQUENCE:3
DTSTAMP:20260424T181615Z
URL:https://chamber.graysharbor.org/events/details/science-cafe-dark-matter-and-the-dinosaurs-11754
END:VEVENT

END:VCALENDAR
