BEGIN:VCALENDAR
VERSION:2.0
PRODID:-//ChamberMaster//Event Calendar 2.0//EN
METHOD:PUBLISH
X-PUBLISHED-TTL:P3D
REFRESH-INTERVAL:P3D
CALSCALE:GREGORIAN
BEGIN:VEVENT
DTSTART:20171222T000000Z
DTEND:20171222T013000Z
X-MICROSOFT-CDO-ALLDAYEVENT:FALSE
SUMMARY:Science Kids
DESCRIPTION:Explore the science behind ships\, sailing\, and boatbuilding with Grays Harbor Historical Seaport staff. Through hands-on activities\, discover how to design a boat that floats\, how to catch the wind\, and what technology sailors have used to make their boats move.\n\nOct. 19: What Floats your Boat? \n\nNov. 16: What's Wind in your Sails? \n\nDec. 21: Powering Ships through Time
X-ALT-DESC;FMTTYPE=text/html:<span style="color: rgb(75\, 79\, 86)\; font-family: Helvetica\, Arial\, sans-serif\; font-size: 14px\; background-color: rgb(255\, 255\, 255)\;">Explore the science behind ships\, sailing\, and boatbuilding with Grays Harbor Historical Seaport staff. Through hands-on activities\, discover how to design a boat that floats\, how to catch the wind\, and what technology sailors have used to make their boats move.</span><br style="color: rgb(75\, 79\, 86)\; font-family: Helvetica\, Arial\, sans-serif\; font-size: 14px\; background-color: rgb(255\, 255\, 255)\;" />\n<span style="color: rgb(75\, 79\, 86)\; font-family: Helvetica\, Arial\, sans-serif\; font-size: 14px\; background-color: rgb(255\, 255\, 255)\;">Oct. 19: What Floats your Boat?&nbsp\;</span><br style="color: rgb(75\, 79\, 86)\; font-family: Helvetica\, Arial\, sans-serif\; font-size: 14px\; background-color: rgb(255\, 255\, 255)\;" />\n<span style="color: rgb(75\, 79\, 86)\; font-family: Helvetica\, Arial\, sans-serif\; font-size: 14px\; background-color: rgb(255\, 255\, 255)\;">Nov. 16: What&#39\;s Wind in your Sails?&nbsp\;</span><br style="color: rgb(75\, 79\, 86)\; font-family: Helvetica\, Arial\, sans-serif\; font-size: 14px\; background-color: rgb(255\, 255\, 255)\;" />\n<span style="color: rgb(75\, 79\, 86)\; font-family: Helvetica\, Arial\, sans-serif\; font-size: 14px\; background-color: rgb(255\, 255\, 255)\;">Dec. 21: Powering Ships through Time</span>
LOCATION:Aberdeen Timberland Library 121 E Market St. Aberdeen\, WA
UID:e.26.8388
SEQUENCE:3
DTSTAMP:20260425T163627Z
URL:https://chamber.graysharbor.org/events/details/science-kids-8388
END:VEVENT

END:VCALENDAR
