BEGIN:VCALENDAR
VERSION:2.0
PRODID:-//ChamberMaster//Event Calendar 2.0//EN
METHOD:PUBLISH
X-PUBLISHED-TTL:P3D
REFRESH-INTERVAL:P3D
CALSCALE:GREGORIAN
BEGIN:VEVENT
DTSTART:20190421T170000Z
DTEND:20190421T190000Z
X-MICROSOFT-CDO-ALLDAYEVENT:FALSE
SUMMARY:Seabrook Easter Egg Hunt
DESCRIPTION:Bring the family out for Seabrook's 10th Annual Easter Egg Hunt taking place on Sunday April 21st! Meet & have your picture taken with Wacky Wabbit\, enjoy tasty treats\, jump around in the bouncey house\, and start your day off with some fun.\n\nWe will gather at 10:00 am at Town Green Park in Seabrook and promptly start at 10:30 am. All children up to 13 years old welcome. Bring your own basket. See you at the hunt!
X-ALT-DESC;FMTTYPE=text/html:<p style="font-size: 16px\; box-sizing: border-box\; margin: 0px 0px 1.25em\; padding: 0px\; direction: ltr\; font-family: myriad-pro\, sans-serif\; line-height: 1.45\; text-rendering: optimizeLegibility\; letter-spacing: 0.47999998927116394px\; caret-color: rgb(84\, 102\, 108)\; color: rgb(84\, 102\, 108)\;">Bring the family out for Seabrook&#39\;s 10th Annual Easter Egg Hunt taking place on Sunday April 21st! Meet &amp\; have your picture taken with Wacky Wabbit\, enjoy tasty treats\, jump around in the bouncey house\, and start your day off with some fun.</p>\n\n<p style="font-size: 16px\; box-sizing: border-box\; margin: 0px 0px 1.25em\; padding: 0px\; direction: ltr\; font-family: myriad-pro\, sans-serif\; line-height: 1.45\; text-rendering: optimizeLegibility\; letter-spacing: 0.47999998927116394px\; caret-color: rgb(84\, 102\, 108)\; color: rgb(84\, 102\, 108)\;">We will&nbsp\;<strong style="box-sizing: border-box\; line-height: 1.45\;">gather at 10:00 am at Town Green Park in Seabrook</strong>&nbsp\;and promptly start at 10:30 am. All children up to 13 years old welcome. Bring your own basket. See you at the hunt!</p>\n
LOCATION:Town Green Park in Seabrook Pacific Beach\, WA
UID:e.26.11627
SEQUENCE:3
DTSTAMP:20260424T150737Z
URL:https://chamber.graysharbor.org/events/details/seabrook-easter-egg-hunt-11627
END:VEVENT

END:VCALENDAR
