BEGIN:VCALENDAR
VERSION:2.0
PRODID:-//ChamberMaster//Event Calendar 2.0//EN
METHOD:PUBLISH
X-PUBLISHED-TTL:P3D
REFRESH-INTERVAL:P3D
CALSCALE:GREGORIAN
BEGIN:VEVENT
DTSTART;VALUE=DATE:20170722
DTEND;VALUE=DATE:20170723
TRANSP:TRANSPARENT
X-MICROSOFT-CDO-ALLDAYEVENT:TRUE
SUMMARY:Seabrook Founder's Day Celebration
DESCRIPTION:FOUNDERS DAY CELEBRATION | 13 YEARS OF SEABROOK |\n\n\n\nCelebrate Outdoor Adventure with us all weekend!\n\n\n\nWestCoast Surfriders will be doing a "big air" competition in the ocean out in front of Seabrook on Saturday.
X-ALT-DESC;FMTTYPE=text/html:<span style="font-family: times new roman\;"><strong>FOUNDERS DAY CELEBRATION | 13 YEARS OF SEABROOK |</strong></span><br />\n<br />\nCelebrate Outdoor Adventure with us all weekend!<br />\n<br />\nWestCoast Surfriders will be doing a &quot\;big air&quot\; competition in the ocean out in front of Seabrook on Saturday.
LOCATION:Seabrook\, WA
UID:e.26.6579
SEQUENCE:3
DTSTAMP:20260426T003133Z
URL:https://chamber.graysharbor.org/events/details/seabrook-founder-s-day-celebration-6579
END:VEVENT

END:VCALENDAR
