BEGIN:VCALENDAR
VERSION:2.0
PRODID:-//ChamberMaster//Event Calendar 2.0//EN
METHOD:PUBLISH
X-PUBLISHED-TTL:P3D
REFRESH-INTERVAL:P3D
CALSCALE:GREGORIAN
BEGIN:VEVENT
DTSTART;VALUE=DATE:20201201
DTEND;VALUE=DATE:20201202
TRANSP:TRANSPARENT
X-MICROSOFT-CDO-ALLDAYEVENT:TRUE
SUMMARY:Seabrook Glass Float Hunt
DESCRIPTION:Seabrook's famous glass float find is back! A simple and safe seasonal tradition to explore the outdoors. We will be hiding two floats a day\, one with a posted clue and the other without (for the more skilled hunters).\n\nThe Glass Float Find is an event that is open to everyone who enjoys their time in Seabrook. Its goal is to create a fun hunt for people as they explore the town. If you have already found a hidden float\, all we ask is that you leave the float for someone else to discover. We are hiding two floats a day. One float comes with a clue once a day.\n\nAttend this event to keep up to date on all things floats for this year's find!
X-ALT-DESC;FMTTYPE=text/html:<div class="kvgmc6g5 cxmmr5t8 oygrvhab hcukyx3x c1et5uql" style="word-wrap: break-word\; margin: 0px\; font-family: system-ui\, -apple-system\, BlinkMacSystemFont\, &quot\;.SFNSText-Regular&quot\;\, sans-serif\; caret-color: rgb(5\, 5\, 5)\; color: rgb(5\, 5\, 5)\; font-size: 15px\;">Seabrook&#39\;s famous glass float find is back! A simple and safe seasonal tradition to explore the outdoors. We will be hiding two floats a day\, one with a posted clue and the other without (for the more skilled hunters).</div>\n\n<div class="o9v6fnle cxmmr5t8 oygrvhab hcukyx3x c1et5uql" style="word-wrap: break-word\; margin: 0.5em 0px 0px\; font-family: system-ui\, -apple-system\, BlinkMacSystemFont\, &quot\;.SFNSText-Regular&quot\;\, sans-serif\; caret-color: rgb(5\, 5\, 5)\; color: rgb(5\, 5\, 5)\; font-size: 15px\;">The Glass Float Find is an event that is open to everyone who enjoys their time in Seabrook. Its goal is to create a fun hunt for people as they explore the town. If you have already found a hidden float\, all we ask is that you leave the float for someone else to discover. We are hiding two floats a day. One float comes with a clue once a day.</div>\n\n<div class="o9v6fnle cxmmr5t8 oygrvhab hcukyx3x c1et5uql" style="word-wrap: break-word\; margin: 0.5em 0px 0px\; font-family: system-ui\, -apple-system\, BlinkMacSystemFont\, &quot\;.SFNSText-Regular&quot\;\, sans-serif\; caret-color: rgb(5\, 5\, 5)\; color: rgb(5\, 5\, 5)\; font-size: 15px\;">Attend this event to keep up to date on all things floats for this year&#39\;s find!</div>\n
LOCATION:Seabrook\, WA
UID:e.26.12540
SEQUENCE:3
DTSTAMP:20260424T041829Z
URL:https://chamber.graysharbor.org/events/details/seabrook-glass-float-hunt-12540
END:VEVENT

END:VCALENDAR
