BEGIN:VCALENDAR
VERSION:2.0
PRODID:-//ChamberMaster//Event Calendar 2.0//EN
METHOD:PUBLISH
X-PUBLISHED-TTL:P3D
REFRESH-INTERVAL:P3D
CALSCALE:GREGORIAN
BEGIN:VEVENT
DTSTART:20180101T040000Z
DTEND:20180101T100000Z
X-MICROSOFT-CDO-ALLDAYEVENT:FALSE
SUMMARY:Seabrook New Years Eve Party
DESCRIPTION:NEW YEARS EVE AT THE HALL | ALL AGES WELCOME | 8PM-MIDNIGHT-ISH | NO COVER |\n \n\nCome to the hall for dancing\, Black Jack & Roulette\, drinks & fun! We will celebrate the East Coast ball drop at 9pm and then the true NYE ball drop at 12AM.  Black Jack & Roulette for the grown ups (18+)\, fun family photo booth. Kids are welcome to stay all night and can enjoy a sparkling cider toast at the 9pm ball drop! Complimentary Champagne toast at 12AM.
X-ALT-DESC;FMTTYPE=text/html:<span style="color: rgb(57\, 79\, 90)\; font-family: Ubuntu\, arial\, sans-serif\; font-size: 14px\; background-color: rgb(246\, 247\, 247)\;">NEW YEARS EVE AT THE HALL | ALL AGES WELCOME | 8PM-MIDNIGHT-ISH | NO COVER |</span>\n<div style="margin: 0px\; outline: none 0px\; padding: 0px\; color: rgb(57\, 79\, 90)\; font-family: Ubuntu\, arial\, sans-serif\; font-size: 14px\; background-color: rgb(246\, 247\, 247)\;">&nbsp\;</div>\n\n<div style="margin: 0px\; outline: none 0px\; padding: 0px\; color: rgb(57\, 79\, 90)\; font-family: Ubuntu\, arial\, sans-serif\; font-size: 14px\; background-color: rgb(246\, 247\, 247)\;">Come to the hall for dancing\, Black Jack &amp\; Roulette\, drinks &amp\; fun! We will celebrate the East Coast ball drop at 9pm and then the true NYE ball drop at 12AM.&nbsp\; Black Jack &amp\; Roulette for the grown ups (18+)\, fun family photo booth. Kids are welcome to stay all night and can enjoy a sparkling cider toast at the 9pm ball drop! Complimentary Champagne toast at 12AM.</div>\n
LOCATION:Seabrook Town Hall Pacific Beach\, WA
UID:e.26.8383
SEQUENCE:3
DTSTAMP:20260425T145917Z
URL:https://chamber.graysharbor.org/events/details/seabrook-new-years-eve-party-8383
END:VEVENT

END:VCALENDAR
