BEGIN:VCALENDAR
VERSION:2.0
PRODID:-//ChamberMaster//Event Calendar 2.0//EN
METHOD:PUBLISH
X-PUBLISHED-TTL:P3D
REFRESH-INTERVAL:P3D
CALSCALE:GREGORIAN
BEGIN:VEVENT
DTSTART:20180901T180000Z
DTEND:20180901T230000Z
X-MICROSOFT-CDO-ALLDAYEVENT:FALSE
SUMMARY:Seabrook Saturday Market
DESCRIPTION:Come stroll though the Saturday Market from 11:00 a.m. to 4:00 p.m.\, where over 25 tents line Front Street.\n\nThe options are endless--you can enjoy an incredible selection of farm fresh produce\, flowers\, artisan food and more. \n\nFind fresh\, healthy local food options including sauces and spices\, oysters\, fish\, and more.\n\n\n\nDine on local food\, smoothies and lemonade best enjoyed with our live music. \n\nVisitors come from all over the Northwest to indulge in our Saturday Markets\, whether its to get a taste of the just caught seafood or to simply soak in Seabrook's beautiful atmosphere. \n\nMore details on vendors\, music acts\, and additional information coming soon.\n\nInterested in becoming a Seabrook Saturday Market Vendor? Email Janet Willis at jwillis@seabrookwa.com.
X-ALT-DESC;FMTTYPE=text/html:<p style="box-sizing: border-box\; margin: 0px 0px 1.25em\; padding: 0px\; direction: ltr\; font-family: myriad-pro\, sans-serif\; font-size: 16px\; line-height: 1.45\; text-rendering: optimizeLegibility\; letter-spacing: 0.48px\; color: rgb(84\, 102\, 108)\; background-color: rgb(255\, 255\, 255)\;"><span style="box-sizing: border-box\; line-height: 1.45\;">Come stroll though the Saturday Market from 11:00 a.m. to 4:00 p.m.\, where over 25 tents line Front Street.</span></p>\n\n<p style="box-sizing: border-box\; margin: 0px 0px 1.25em\; padding: 0px\; direction: ltr\; font-family: myriad-pro\, sans-serif\; font-size: 16px\; line-height: 1.45\; text-rendering: optimizeLegibility\; letter-spacing: 0.48px\; color: rgb(84\, 102\, 108)\; background-color: rgb(255\, 255\, 255)\;"><span style="box-sizing: border-box\; line-height: 1.45\;">The options are endless--you can enjoy an incredible selection of farm fresh produce\, flowers\, artisan food and more.&nbsp\;</span></p>\n\n<p style="box-sizing: border-box\; margin: 0px 0px 1.25em\; padding: 0px\; direction: ltr\; font-family: myriad-pro\, sans-serif\; font-size: 16px\; line-height: 1.45\; text-rendering: optimizeLegibility\; letter-spacing: 0.48px\; color: rgb(84\, 102\, 108)\; background-color: rgb(255\, 255\, 255)\;"><span style="box-sizing: border-box\; line-height: 1.45\;">Find fresh\, healthy local food options including sauces and spices\, oysters\, fish\, and more.</span><br style="box-sizing: border-box\; line-height: 1.45\;" />\n<br style="box-sizing: border-box\; line-height: 1.45\;" />\n<span class="text_exposed_show" style="box-sizing: border-box\; line-height: 1.45\;">Dine on local food\, smoothies and lemonade best enjoyed with our live music.&nbsp\;</span></p>\n\n<p style="box-sizing: border-box\; margin: 0px 0px 1.25em\; padding: 0px\; direction: ltr\; font-family: myriad-pro\, sans-serif\; font-size: 16px\; line-height: 1.45\; text-rendering: optimizeLegibility\; letter-spacing: 0.48px\; color: rgb(84\, 102\, 108)\; background-color: rgb(255\, 255\, 255)\;">Visitors come from all over the Northwest to indulge in our Saturday Markets\, whether its to get a taste of the just caught seafood or to simply soak in Seabrook&#39\;s beautiful atmosphere.&nbsp\;</p>\n\n<p style="box-sizing: border-box\; margin: 0px 0px 1.25em\; padding: 0px\; direction: ltr\; font-family: myriad-pro\, sans-serif\; font-size: 16px\; line-height: 1.45\; text-rendering: optimizeLegibility\; letter-spacing: 0.48px\; color: rgb(84\, 102\, 108)\; background-color: rgb(255\, 255\, 255)\;">More details on vendors\, music acts\, and additional information coming soon.</p>\n\n<p style="box-sizing: border-box\; margin: 0px 0px 1.25em\; padding: 0px\; direction: ltr\; font-family: myriad-pro\, sans-serif\; font-size: 16px\; line-height: 1.45\; text-rendering: optimizeLegibility\; letter-spacing: 0.48px\; color: rgb(84\, 102\, 108)\; background-color: rgb(255\, 255\, 255)\;">Interested in becoming a Seabrook Saturday Market Vendor? Email Janet Willis at&nbsp\;<a href="mailto:jwillis@seabrookwa.com" style="box-sizing: border-box\; background: rgba(255\, 255\, 255\, 0)\; color: rgb(132\, 161\, 177)\; line-height: 1.45\; transition: color 0.25s ease-in-out 0s\, text-decoration 0s ease 0s\;">jwillis@seabrookwa.com</a>.</p>\n
LOCATION:Seabrook Pacific Beach\, WA
UID:e.26.11217
SEQUENCE:3
DTSTAMP:20260425T032520Z
URL:https://chamber.graysharbor.org/events/details/seabrook-saturday-market-11217
END:VEVENT

END:VCALENDAR
