BEGIN:VCALENDAR
VERSION:2.0
PRODID:-//ChamberMaster//Event Calendar 2.0//EN
METHOD:PUBLISH
X-PUBLISHED-TTL:P3D
REFRESH-INTERVAL:P3D
CALSCALE:GREGORIAN
BEGIN:VEVENT
DTSTART:20170805T180000Z
DTEND:20170805T230000Z
X-MICROSOFT-CDO-ALLDAYEVENT:FALSE
SUMMARY:Seabrook Saturday Market
DESCRIPTION:Head on out to Front Street and Meriweather Street to shop the best local vendors!\n\n\n\nThe Line-Up for August 5:\n\nFront Street Market\n\nThe Jerky Gal\n\nPure & Coco\n\nBlue Drum Art Glass\n\nSassy Seafood\n\nglassybaby\n\nSomewhat Fishy\n\nFosse Farms\n\nGaia Blends\n\nNorth Pacific Utopian Wares\n\nW.A.S.H.A.W.A.Y. by Senja\n\n\n\n& MUCH MORE!
X-ALT-DESC;FMTTYPE=text/html:<span style="color: rgb(75\, 79\, 86)\; font-family: Helvetica\, Arial\, sans-serif\; font-size: 14px\; background-color: rgb(255\, 255\, 255)\;">Head on out to Front Street and Meriweather Street to shop the best local vendors!</span><br style="color: rgb(75\, 79\, 86)\; font-family: Helvetica\, Arial\, sans-serif\; font-size: 14px\; background-color: rgb(255\, 255\, 255)\;" />\n<br style="color: rgb(75\, 79\, 86)\; font-family: Helvetica\, Arial\, sans-serif\; font-size: 14px\; background-color: rgb(255\, 255\, 255)\;" />\n<span style="color: rgb(75\, 79\, 86)\; font-family: Helvetica\, Arial\, sans-serif\; font-size: 14px\; background-color: rgb(255\, 255\, 255)\;">The Line-Up for August 5:</span><br style="color: rgb(75\, 79\, 86)\; font-family: Helvetica\, Arial\, sans-serif\; font-size: 14px\; background-color: rgb(255\, 255\, 255)\;" />\n<a data-hovercard="/ajax/hovercard/page.php?id=284489008365687&amp\;extragetparams=%7B%22directed_target_id%22%3A269730353506431%7D" data-hovercard-prefer-more-content-show="1" href="https://www.facebook.com/Front-Street-Market-284489008365687/" style="color: rgb(54\, 88\, 153)\; cursor: pointer\; text-decoration-line: none\; font-family: Helvetica\, Arial\, sans-serif\; font-size: 14px\; background-color: rgb(255\, 255\, 255)\;">Front Street Market</a><br style="color: rgb(75\, 79\, 86)\; font-family: Helvetica\, Arial\, sans-serif\; font-size: 14px\; background-color: rgb(255\, 255\, 255)\;" />\n<a data-hovercard="/ajax/hovercard/page.php?id=742417879238370&amp\;extragetparams=%7B%22directed_target_id%22%3A269730353506431%7D" data-hovercard-prefer-more-content-show="1" href="https://www.facebook.com/thejerkygal/" style="color: rgb(54\, 88\, 153)\; cursor: pointer\; text-decoration-line: none\; font-family: Helvetica\, Arial\, sans-serif\; font-size: 14px\; background-color: rgb(255\, 255\, 255)\;">The Jerky Gal</a><br style="color: rgb(75\, 79\, 86)\; font-family: Helvetica\, Arial\, sans-serif\; font-size: 14px\; background-color: rgb(255\, 255\, 255)\;" />\n<a data-hovercard="/ajax/hovercard/page.php?id=779434542069296&amp\;extragetparams=%7B%22directed_target_id%22%3A269730353506431%7D" data-hovercard-prefer-more-content-show="1" href="https://www.facebook.com/pureandcoco/" style="color: rgb(54\, 88\, 153)\; cursor: pointer\; text-decoration-line: none\; font-family: Helvetica\, Arial\, sans-serif\; font-size: 14px\; background-color: rgb(255\, 255\, 255)\;">Pure &amp\; Coco</a><br style="color: rgb(75\, 79\, 86)\; font-family: Helvetica\, Arial\, sans-serif\; font-size: 14px\; background-color: rgb(255\, 255\, 255)\;" />\n<a data-hovercard="/ajax/hovercard/page.php?id=420267108116417&amp\;extragetparams=%7B%22directed_target_id%22%3A269730353506431%7D" data-hovercard-prefer-more-content-show="1" href="https://www.facebook.com/BlueDrumArtGlass/" style="color: rgb(54\, 88\, 153)\; cursor: pointer\; text-decoration-line: none\; font-family: Helvetica\, Arial\, sans-serif\; font-size: 14px\; background-color: rgb(255\, 255\, 255)\;">Blue Drum Art Glass</a><br style="color: rgb(75\, 79\, 86)\; font-family: Helvetica\, Arial\, sans-serif\; font-size: 14px\; background-color: rgb(255\, 255\, 255)\;" />\n<a data-hovercard="/ajax/hovercard/page.php?id=540546512630852&amp\;extragetparams=%7B%22directed_target_id%22%3A269730353506431%7D" data-hovercard-prefer-more-content-show="1" href="https://www.facebook.com/SassySeafood/" style="color: rgb(54\, 88\, 153)\; cursor: pointer\; text-decoration-line: none\; font-family: Helvetica\, Arial\, sans-serif\; font-size: 14px\; background-color: rgb(255\, 255\, 255)\;">Sassy Seafood</a><br style="color: rgb(75\, 79\, 86)\; font-family: Helvetica\, Arial\, sans-serif\; font-size: 14px\; background-color: rgb(255\, 255\, 255)\;" />\n<a data-hovercard="/ajax/hovercard/page.php?id=98329024328&amp\;extragetparams=%7B%22directed_target_id%22%3A269730353506431%7D" data-hovercard-prefer-more-content-show="1" href="https://www.facebook.com/glassybaby/" style="color: rgb(54\, 88\, 153)\; cursor: pointer\; text-decoration-line: none\; font-family: Helvetica\, Arial\, sans-serif\; font-size: 14px\; background-color: rgb(255\, 255\, 255)\;">glassybaby</a><br style="color: rgb(75\, 79\, 86)\; font-family: Helvetica\, Arial\, sans-serif\; font-size: 14px\; background-color: rgb(255\, 255\, 255)\;" />\n<a data-hovercard="/ajax/hovercard/page.php?id=875347435860556&amp\;extragetparams=%7B%22directed_target_id%22%3A269730353506431%7D" data-hovercard-prefer-more-content-show="1" href="https://www.facebook.com/Sandphifergallery/" style="color: rgb(54\, 88\, 153)\; cursor: pointer\; text-decoration-line: none\; font-family: Helvetica\, Arial\, sans-serif\; font-size: 14px\; background-color: rgb(255\, 255\, 255)\;">Somewhat Fishy</a><br style="color: rgb(75\, 79\, 86)\; font-family: Helvetica\, Arial\, sans-serif\; font-size: 14px\; background-color: rgb(255\, 255\, 255)\;" />\n<a data-hovercard="/ajax/hovercard/page.php?id=300724176661554&amp\;extragetparams=%7B%22directed_target_id%22%3A269730353506431%7D" data-hovercard-prefer-more-content-show="1" href="https://www.facebook.com/FosseFarms/" style="color: rgb(54\, 88\, 153)\; cursor: pointer\; text-decoration-line: none\; font-family: Helvetica\, Arial\, sans-serif\; font-size: 14px\; background-color: rgb(255\, 255\, 255)\;">Fosse Farms</a><br style="color: rgb(75\, 79\, 86)\; font-family: Helvetica\, Arial\, sans-serif\; font-size: 14px\; background-color: rgb(255\, 255\, 255)\;" />\n<a data-hovercard="/ajax/hovercard/page.php?id=119291754841430&amp\;extragetparams=%7B%22directed_target_id%22%3A269730353506431%7D" data-hovercard-prefer-more-content-show="1" href="https://www.facebook.com/GaiaBlends/" style="color: rgb(54\, 88\, 153)\; cursor: pointer\; text-decoration-line: none\; font-family: Helvetica\, Arial\, sans-serif\; font-size: 14px\; background-color: rgb(255\, 255\, 255)\;">Gaia Blends</a><br />\n<span class="text_exposed_show" style="display: inline\; font-family: Helvetica\, Arial\, sans-serif\; color: rgb(75\, 79\, 86)\; font-size: 14px\; background-color: rgb(255\, 255\, 255)\;"><a data-hovercard="/ajax/hovercard/page.php?id=1660489580896240&amp\;extragetparams=%7B%22directed_target_id%22%3A269730353506431%7D" data-hovercard-prefer-more-content-show="1" href="https://www.facebook.com/npuw.biz/" style="color: rgb(54\, 88\, 153)\; cursor: pointer\; text-decoration-line: none\; font-family: inherit\;">North Pacific Utopian Wares</a><br />\n<a data-hovercard="/ajax/hovercard/page.php?id=306150156070611&amp\;extragetparams=%7B%22directed_target_id%22%3A269730353506431%7D" data-hovercard-prefer-more-content-show="1" href="https://www.facebook.com/washawaybysenja/" style="color: rgb(54\, 88\, 153)\; cursor: pointer\; text-decoration-line: none\; font-family: inherit\;">W.A.S.H.A.W.A.Y. by Senja</a><br />\n<br />\n&amp\; MUCH MORE!</span>
LOCATION:Seabrook Pacific Beach\, WA
UID:e.26.8103
SEQUENCE:3
DTSTAMP:20260425T230452Z
URL:https://chamber.graysharbor.org/events/details/seabrook-saturday-market-8103
END:VEVENT

END:VCALENDAR
