BEGIN:VCALENDAR
VERSION:2.0
PRODID:-//ChamberMaster//Event Calendar 2.0//EN
METHOD:PUBLISH
X-PUBLISHED-TTL:P3D
REFRESH-INTERVAL:P3D
CALSCALE:GREGORIAN
BEGIN:VEVENT
DTSTART:20181027T230000Z
DTEND:20181028T010000Z
X-MICROSOFT-CDO-ALLDAYEVENT:FALSE
SUMMARY:Seabrook Town Trick-or-Treat
DESCRIPTION:Starting at 4PM\, all Seabrook Town Merchants and many homes throughout town will have treats for kids in costume! Look for the glittery pumpkin to be displayed on the house door\, these are the participating homes.
X-ALT-DESC;FMTTYPE=text/html:<span style="color: rgb(84\, 102\, 108)\; font-family: myriad-pro\, sans-serif\; font-size: 16px\; letter-spacing: 0.48px\; background-color: rgb(255\, 255\, 255)\;">Starting at 4PM\, all Seabrook Town Merchants and many homes throughout town will have treats for kids in costume! Look for the glittery pumpkin to be displayed on the house door\, these are the participating homes.</span>
LOCATION:Seabrook Washington Pacific Beach\, WA
UID:e.26.10647
SEQUENCE:3
DTSTAMP:20260425T002129Z
URL:https://chamber.graysharbor.org/events/details/seabrook-town-trick-or-treat-10647
END:VEVENT

END:VCALENDAR
