BEGIN:VCALENDAR
VERSION:2.0
PRODID:-//ChamberMaster//Event Calendar 2.0//EN
METHOD:PUBLISH
X-PUBLISHED-TTL:P3D
REFRESH-INTERVAL:P3D
CALSCALE:GREGORIAN
BEGIN:VEVENT
DTSTART:20180816T230000Z
DTEND:20180817T030000Z
X-MICROSOFT-CDO-ALLDAYEVENT:FALSE
SUMMARY:Seahawks Fan Fest Kick Off Tailgate Party At Oyhut Bay
DESCRIPTION:Are you ready to kick off Seahawks Fan Fest weekend with a tailgate party before the madness begins?\n\nOpen to the public- tailgate party for special guests \,vendors\, promoters.\n\nSeahawks fun\, family games\, vendors\, live music 6 to 8 p.m. in the amphitheater. \n\nGet your Seahawks Fan Fest prefunk on!
X-ALT-DESC;FMTTYPE=text/html:<span style="color: rgb(75\, 79\, 86)\; font-family: Helvetica\, Arial\, sans-serif\; font-size: 14px\; background-color: rgb(255\, 255\, 255)\;">Are you ready to kick off Seahawks Fan Fest weekend with a tailgate party before the madness begins?</span><br style="color: rgb(75\, 79\, 86)\; font-family: Helvetica\, Arial\, sans-serif\; font-size: 14px\; background-color: rgb(255\, 255\, 255)\;" />\n<span style="color: rgb(75\, 79\, 86)\; font-family: Helvetica\, Arial\, sans-serif\; font-size: 14px\; background-color: rgb(255\, 255\, 255)\;">Open to the public- tailgate party for special guests \,vendors\, promoters.</span><br style="color: rgb(75\, 79\, 86)\; font-family: Helvetica\, Arial\, sans-serif\; font-size: 14px\; background-color: rgb(255\, 255\, 255)\;" />\n<span style="color: rgb(75\, 79\, 86)\; font-family: Helvetica\, Arial\, sans-serif\; font-size: 14px\; background-color: rgb(255\, 255\, 255)\;">Seahawks fun\, family games\, vendors\, live music 6 to 8 p.m. in the amphitheater.&nbsp\;</span><br style="color: rgb(75\, 79\, 86)\; font-family: Helvetica\, Arial\, sans-serif\; font-size: 14px\; background-color: rgb(255\, 255\, 255)\;" />\n<span style="color: rgb(75\, 79\, 86)\; font-family: Helvetica\, Arial\, sans-serif\; font-size: 14px\; background-color: rgb(255\, 255\, 255)\;">Get your Seahawks Fan Fest prefunk on!</span>
LOCATION:Oyhut Bay Ocean Shores\, WA
UID:e.26.10643
SEQUENCE:3
DTSTAMP:20260425T034643Z
URL:https://chamber.graysharbor.org/events/details/seahawks-fan-fest-kick-off-tailgate-party-at-oyhut-bay-10643
END:VEVENT

END:VCALENDAR
