BEGIN:VCALENDAR
VERSION:2.0
PRODID:-//ChamberMaster//Event Calendar 2.0//EN
METHOD:PUBLISH
X-PUBLISHED-TTL:P3D
REFRESH-INTERVAL:P3D
CALSCALE:GREGORIAN
BEGIN:VEVENT
DTSTART:20190720T160000Z
DTEND:20190721T040000Z
X-MICROSOFT-CDO-ALLDAYEVENT:FALSE
SUMMARY:Sears Friends & Family Sale
DESCRIPTION:July 20th all day 9am-9pm join us at Sears in Aberdeen for our Friends & Family Event!\n\nShop local this weekend! Save 10-20% off regular and sale prices across the store* Plus take advantage of great financing offers on a Sears card\, Leasing and Layaway options during the event. Shop Your Way Members earn even more with points. *some exclusions apply\, see associates for detail. \n\n\n\nWhile you are there\, enjoy some popcorn and with any purchase enter to win a $50 gift card! Kids enter to win a backpack. It's a great time with great prices to think about Back to School or maybe even new kitchen appliances.
X-ALT-DESC;FMTTYPE=text/html:<span style="font-family:arial\;"><span style="caret-color: rgb(34\, 34\, 34)\; color: rgb(34\, 34\, 34)\; font-size: small\;"><span style="font-size:16px\;">July 20th all day 9am-9pm join us at Sears in Aberdeen for our Friends &amp\; Family Event!<br />\nShop local this weekend! Save 10-20% off regular and sale prices across the store* Plus take advantage of great financing offers on a Sears card\, Leasing and Layaway options during the event. Shop Your Way Members earn even more with points. *some exclusions apply\, see associates for detail. </span><br />\n<br />\nWhile you are there\, enjoy some popcorn and with any purchase enter to win a $50 gift card! Kids enter to win a backpack. It&#39\;s a great time with great prices to think about Back to School or maybe even new kitchen appliances.&nbsp\;</span></span>
LOCATION:Sears 1219 S. Boone St Aberdeen\, Wa 98520
UID:e.26.12130
SEQUENCE:3
DTSTAMP:20260424T115547Z
URL:https://chamber.graysharbor.org/events/details/sears-friends-family-sale-12130
END:VEVENT

END:VCALENDAR
