BEGIN:VCALENDAR
VERSION:2.0
PRODID:-//ChamberMaster//Event Calendar 2.0//EN
METHOD:PUBLISH
X-PUBLISHED-TTL:P3D
REFRESH-INTERVAL:P3D
CALSCALE:GREGORIAN
BEGIN:VEVENT
DTSTART:20191107T213000Z
DTEND:20191107T230000Z
X-MICROSOFT-CDO-ALLDAYEVENT:FALSE
SUMMARY:Services Entry Event
DESCRIPTION:Come get connected with local providers of services such as Mental Health Counseling\, Substance Use Treatment\, Parenting Coaches and more. This week we have Rite Aid giving FREE Flu Shots for those with qualifying insurance including Medicaid! (Bring Insurance Card).
X-ALT-DESC;FMTTYPE=text/html:Come get connected with local providers of services such as Mental Health Counseling\, Substance Use Treatment\, Parenting Coaches and more. This week we have Rite Aid giving FREE Flu Shots for those with qualifying insurance including Medicaid! (Bring Insurance Card).
LOCATION:Coastal Community Action Program
UID:e.26.12275
SEQUENCE:3
DTSTAMP:20260424T041918Z
URL:https://chamber.graysharbor.org/events/details/services-entry-event-11-07-2019-12275
END:VEVENT

END:VCALENDAR
