BEGIN:VCALENDAR
VERSION:2.0
PRODID:-//ChamberMaster//Event Calendar 2.0//EN
METHOD:PUBLISH
X-PUBLISHED-TTL:P3D
REFRESH-INTERVAL:P3D
CALSCALE:GREGORIAN
BEGIN:VEVENT
DTSTART:20191205T213000Z
DTEND:20191205T230000Z
X-MICROSOFT-CDO-ALLDAYEVENT:FALSE
SUMMARY:Services Entry Event
DESCRIPTION:Come shop local service providers and get connected with Mental Health Counselors\, Supported Employment\, Health Insurance\, Substance Abuse Treatment\, Parenting Support and more! Every Thursday\, from 1:30 to 3pm at the Coastal Community Action Program Main Office located at 101 E Market St in Aberdeen\, WA. The help you need is available\, you just have to come and get it!
X-ALT-DESC;FMTTYPE=text/html:Come shop local service providers and get connected with Mental Health Counselors\, Supported Employment\, Health Insurance\, Substance Abuse Treatment\, Parenting Support and more! Every Thursday\, from 1:30 to 3pm at the Coastal Community Action Program Main Office located at 101 E Market St in Aberdeen\, WA. The help you need is available\, you just have to come and get it!
LOCATION:Coastal Community Action Program 101 E Market St Aberdeen\, WA 98520
UID:e.26.12310
SEQUENCE:3
DTSTAMP:20260424T030326Z
URL:https://chamber.graysharbor.org/events/details/services-entry-event-12-05-2019-12310
END:VEVENT

END:VCALENDAR
