BEGIN:VCALENDAR
VERSION:2.0
PRODID:-//ChamberMaster//Event Calendar 2.0//EN
METHOD:PUBLISH
X-PUBLISHED-TTL:P3D
REFRESH-INTERVAL:P3D
CALSCALE:GREGORIAN
BEGIN:VEVENT
DTSTART;VALUE=DATE:20180802
DTEND;VALUE=DATE:20180806
TRANSP:TRANSPARENT
X-MICROSOFT-CDO-ALLDAYEVENT:TRUE
SUMMARY:Seussical The Musical
DESCRIPTION:Join Horton\, Mayzie\, Gertrude\, The Whos\, Grinch\, Cat in the Hat and more\, for this colorful and exciting show! Suitable for all ages!\n\n\n\nThe show opens Thursday\, August 2 and runs through Sunday\, August 5. Thursday\, Friday\, and Saturday shows are at 7:30 PM\, Sunday at 2:00 PM\n\n\n\nTickets are available at Harbor Drug\, Tinderbox Coffee Roasters\, Vacations by the Sea (Westport)\, and Mocha Madness (Ocean Shores)\, brownpapertickets.com\, and at the box office one hour prior to showtime. Please note that ticket outlets are cash only. Adults $15\, Students and Seniors $10\, Children 12 and under $5.
X-ALT-DESC;FMTTYPE=text/html:<span style="color: rgb(29\, 33\, 41)\; font-family: Helvetica\, Arial\, sans-serif\; font-size: 14px\; background-color: rgb(255\, 255\, 255)\;">Join Horton\, Mayzie\, Gertrude\, The Whos\, Grinch\, Cat in the Hat and more\, for this colorful and exciting show! Suitable for all ages!</span><br style="color: rgb(29\, 33\, 41)\; font-family: Helvetica\, Arial\, sans-serif\; font-size: 14px\; background-color: rgb(255\, 255\, 255)\;" />\n<br style="color: rgb(29\, 33\, 41)\; font-family: Helvetica\, Arial\, sans-serif\; font-size: 14px\; background-color: rgb(255\, 255\, 255)\;" />\n<span style="color: rgb(29\, 33\, 41)\; font-family: Helvetica\, Arial\, sans-serif\; font-size: 14px\; background-color: rgb(255\, 255\, 255)\;">The show opens Thursday\, August 2 and runs through Sunday\, August 5. Thursday\, Friday\, and Saturday shows are at 7:30 PM\, Sunday at 2:00 PM</span><br style="color: rgb(29\, 33\, 41)\; font-family: Helvetica\, Arial\, sans-serif\; font-size: 14px\; background-color: rgb(255\, 255\, 255)\;" />\n<br style="color: rgb(29\, 33\, 41)\; font-family: Helvetica\, Arial\, sans-serif\; font-size: 14px\; background-color: rgb(255\, 255\, 255)\;" />\n<span style="color: rgb(29\, 33\, 41)\; font-family: Helvetica\, Arial\, sans-serif\; font-size: 14px\; background-color: rgb(255\, 255\, 255)\;">Tickets are available at Harbor Drug\, Tinderbox Coffee Roasters\, Vacations by the Sea (Westport)\, and Mocha Madness (Ocean Shores)\,&nbsp\;</span><a data-lynx-mode="hover" href="https://l.facebook.com/l.php?u=http%3A%2F%2Fbrownpapertickets.com%2F&amp\;h=AT1lPxfPsHmRCNM_xyNRyBFb8459CDUxDgnz1LyjadszWCpxQLTdGhXGQEIkfrJtVQnX_sD91o-Aoh0Mq-Biz6t-Jw_lVc78zLnKDVGlw6XOnwT8vcQbDgOcWn_CDRKuKMGaWeZ1Foh1EobnCIg" rel="nofollow noopener" style="color: rgb(54\, 88\, 153)\; cursor: pointer\; text-decoration-line: none\; font-family: Helvetica\, Arial\, sans-serif\; font-size: 14px\; background-color: rgb(255\, 255\, 255)\;" target="_blank">brownpapertickets.com</a><span style="color: rgb(29\, 33\, 41)\; font-family: Helvetica\, Arial\, sans-serif\; font-size: 14px\; background-color: rgb(255\, 255\, 255)\;">\, and at the box office one hour prior to showtime. Please note that ticket outlets are cash only. Adults $15\, Students and Seniors $10\, Children 12 and under $5.</span>
LOCATION:7th St. Theatre Hoquiam\, WA
UID:e.26.11168
SEQUENCE:3
DTSTAMP:20260425T034516Z
URL:https://chamber.graysharbor.org/events/details/seussical-the-musical-11168
END:VEVENT

END:VCALENDAR
