BEGIN:VCALENDAR
VERSION:2.0
PRODID:-//ChamberMaster//Event Calendar 2.0//EN
METHOD:PUBLISH
X-PUBLISHED-TTL:P3D
REFRESH-INTERVAL:P3D
CALSCALE:GREGORIAN
BEGIN:VEVENT
DTSTART:20180808T000000Z
DTEND:20180808T030000Z
X-MICROSOFT-CDO-ALLDAYEVENT:FALSE
SUMMARY:Sgt. Brand's National Night Out
DESCRIPTION:Sgt Brand's BBQ will be hosting for the National Night Out for the South side of Aberdeen. Sgt Brand's is supplying the hot dogs and wings. Just like any NNO gathering spot\, its time to meet your neighbors and share your favorite potluck dish. Drawing contest for the kids.
X-ALT-DESC;FMTTYPE=text/html:<span style="color: rgb(29\, 33\, 41)\; font-family: Helvetica\, Arial\, sans-serif\; font-size: 14px\; background-color: rgb(255\, 255\, 255)\;">Sgt Brand&#39\;s BBQ will be hosting for the National Night Out for the South side of Aberdeen. Sgt Brand&#39\;s is supplying the hot dogs and wings. Just like any NNO gathering spot\, its time to meet your neighbors and share your favorite potluck dish. Drawing contest for the kids.</span>
LOCATION:Sgt\, Brand's Shoppes at Riverside Southside Aberdeen\, WA
UID:e.26.11169
SEQUENCE:3
DTSTAMP:20260425T034522Z
URL:https://chamber.graysharbor.org/events/details/sgt-brand-s-national-night-out-11169
END:VEVENT

END:VCALENDAR
