BEGIN:VCALENDAR
VERSION:2.0
PRODID:-//ChamberMaster//Event Calendar 2.0//EN
METHOD:PUBLISH
X-PUBLISHED-TTL:P3D
REFRESH-INTERVAL:P3D
CALSCALE:GREGORIAN
BEGIN:VEVENT
DTSTART:20190929T013000Z
DTEND:20190929T030000Z
X-MICROSOFT-CDO-ALLDAYEVENT:FALSE
SUMMARY:Shaggy Sweets at Seabrook's Fall Concert Series
DESCRIPTION:The September 28th Fall Concert Series will feature Shaggy Sweets! Since 2009\, Shaggy Sweet's eclectic mix of Blues/Rock/R n' B cover songs and original compositions have been captivating audiences all over the Pacific Northwest. \n\nCover songs spanning multiple decades by Jimi Hendrix\, Fleetwood Mac\, Stevie Ray Vaughn\, The Beatles\, John Mayer\, and Tom Petty among many other classic rock and current artists are mainstays of the band's repertoire\, and always have audiences on their feet. \n\nTheir dynamic show features both tight arrangements and impressive improv that showcase each of the band member's talents: Ben James (vocals\, acoustic guitar)\, Aaron Hiebert (vocals\, electric guitar)\, Josiah Bogle (vocals\, bass)\, and Jason Edwards (drums). To date\, the band has composed and recorded 3 studio albums and one live album\, and is currently in production for their fourth studio album\, coming summer of 2019.
X-ALT-DESC;FMTTYPE=text/html:<p style="font-family: Arial\, sans-serif\; box-sizing: border-box\; margin: 0px 0px 1.25em\; padding: 0px\; direction: ltr\; line-height: 1.45\; text-rendering: optimizeLegibility\; letter-spacing: 0.47999998927116394px\; caret-color: rgb(84\, 102\, 108)\;"><span style="font-size:14px\;"><span style="font-family:arial\;"><span style="box-sizing: border-box\; line-height: 1.45\;"><font color="#000000">The September 28th Fall Concert Series will feature Shaggy Sweets! Since 2009\, Shaggy Sweet&#39\;s eclectic mix of Blues/Rock/R n&#39\; B cover songs and original compositions have been captivating audiences all over the Pacific Northwest.&nbsp\;</font></span></span></span></p>\n\n<p style="font-family: Arial\, sans-serif\; box-sizing: border-box\; margin: 0px 0px 1.25em\; padding: 0px\; direction: ltr\; line-height: 1.45\; text-rendering: optimizeLegibility\; letter-spacing: 0.47999998927116394px\; caret-color: rgb(84\, 102\, 108)\;"><span style="font-size:14px\;"><span style="font-family:arial\;"><span style="box-sizing: border-box\; line-height: 1.45\;"><font color="#000000">Cover songs spanning multiple decades by Jimi Hendrix\, Fleetwood Mac\, Stevie Ray Vaughn\, The Beatles\, John Mayer\, and Tom Petty among many other classic rock and current artists are mainstays of the band&#39\;s repertoire\, and always have audiences on their feet.&nbsp\;</font></span></span></span></p>\n\n<p style="font-family: Arial\, sans-serif\; box-sizing: border-box\; margin: 0px 0px 1.25em\; padding: 0px\; direction: ltr\; line-height: 1.45\; text-rendering: optimizeLegibility\; letter-spacing: 0.47999998927116394px\; caret-color: rgb(84\, 102\, 108)\;"><span style="font-size:14px\;"><span style="font-family:arial\;"><span style="box-sizing: border-box\; line-height: 1.45\;"><font color="#000000">Their dynamic show features both tight arrangements and impressive improv that showcase each of the band member&#39\;s talents: Ben James (vocals\, acoustic guitar)\, Aaron Hiebert (vocals\, electric guitar)\, Josiah Bogle (vocals\, bass)\, and Jason Edwards (drums). To date\, the band has composed and recorded 3 studio albums and one live album\, and is currently in production for their fourth studio album\, coming summer of 2019.</font></span></span></span></p>\n
LOCATION:Seabrook Pacific Beach\, WA
UID:e.26.12186
SEQUENCE:3
DTSTAMP:20260424T090653Z
URL:https://chamber.graysharbor.org/events/details/shaggy-sweets-at-seabrook-s-fall-concert-series-12186
END:VEVENT

END:VCALENDAR
