BEGIN:VCALENDAR
VERSION:2.0
PRODID:-//ChamberMaster//Event Calendar 2.0//EN
METHOD:PUBLISH
X-PUBLISHED-TTL:P3D
REFRESH-INTERVAL:P3D
CALSCALE:GREGORIAN
BEGIN:VEVENT
DTSTART:20191001T010000Z
DTEND:20191001T030000Z
X-MICROSOFT-CDO-ALLDAYEVENT:FALSE
SUMMARY:Shenandoah Quilt Class
DESCRIPTION:Geri Benson is teaching this amazing quilt at Stitches Quilt & Craft Shop in Westport! The three classes are scheduled for Sept 30\, Oct 7 and Oct 14 at 6pm. Call Stitches for more details.
X-ALT-DESC;FMTTYPE=text/html:<span style="caret-color: rgb(29\, 33\, 41)\; color: rgb(29\, 33\, 41)\; font-family: system-ui\, -apple-system\, BlinkMacSystemFont\, &quot\;.SFNSText-Regular&quot\;\, sans-serif\; font-size: 14px\; white-space: pre-wrap\;">Geri Benson is teaching this amazing quilt at Stitches Quilt &amp\; Craft Shop in Westport! The three classes are scheduled for Sept 30\, Oct 7 and Oct 14 at 6pm. Call Stitches for more details.</span>
LOCATION:pin Stitches Quilt & Craft Shop 2601B Westhaven Dr \, Westport\, Washington 98595
UID:e.26.12204
SEQUENCE:3
DTSTAMP:20260424T073618Z
URL:https://chamber.graysharbor.org/events/details/shenandoah-quilt-class-12204
END:VEVENT

END:VCALENDAR
