BEGIN:VCALENDAR
VERSION:2.0
PRODID:-//ChamberMaster//Event Calendar 2.0//EN
METHOD:PUBLISH
X-PUBLISHED-TTL:P3D
REFRESH-INTERVAL:P3D
CALSCALE:GREGORIAN
BEGIN:VEVENT
DTSTART:20190316T170000Z
DTEND:20190316T210000Z
X-MICROSOFT-CDO-ALLDAYEVENT:FALSE
SUMMARY:Shenanigans Fest
DESCRIPTION:Celebrate the patron saint of Ireland at Seabrook with Shenanigans Fest and parade\, which begins on Front Street in front of cottage rentals. Led by a bagpiper\, the parade will feature high schools\, clubs\, guests\, home owners\, and Seabrook merchants. Don your favorite green costume\, decorate your stroller or bike\, and join the parade through town.\n\nThe Shenanigans Festival starts after the parade and features live entertainment\, music\, dancing\, Irish food\, games for kids\, and a beer garden presented by Mill 109. \n\nDon't miss the hunt for the "Pot of Gold" along Gnome Trail or cross-walk chalk art on the corner of Market and Meriweather.
X-ALT-DESC;FMTTYPE=text/html:<p style="font-size: 16px\; box-sizing: border-box\; margin: 0px 0px 1.25em\; padding: 0px\; direction: ltr\; font-family: myriad-pro\, sans-serif\; line-height: 1.45\; text-rendering: optimizeLegibility\; letter-spacing: 0.47999998927116394px\; caret-color: rgb(84\, 102\, 108)\; color: rgb(84\, 102\, 108)\;">Celebrate the patron saint of Ireland at Seabrook with Shenanigans Fest and parade\, which begins on Front Street in front of cottage rentals. Led by a bagpiper\, the parade will feature high schools\, clubs\, guests\, home owners\, and Seabrook merchants. Don your favorite green costume\, decorate your stroller or bike\, and join the parade through town.</p>\n\n<p style="font-size: 16px\; box-sizing: border-box\; margin: 0px 0px 1.25em\; padding: 0px\; direction: ltr\; font-family: myriad-pro\, sans-serif\; line-height: 1.45\; text-rendering: optimizeLegibility\; letter-spacing: 0.47999998927116394px\; caret-color: rgb(84\, 102\, 108)\; color: rgb(84\, 102\, 108)\;">The Shenanigans Festival starts after the parade and features live entertainment\, music\, dancing\, Irish food\, games for kids\, and a beer garden presented by Mill 109.&nbsp\;</p>\n\n<p style="font-size: 16px\; box-sizing: border-box\; margin: 0px 0px 1.25em\; padding: 0px\; direction: ltr\; font-family: myriad-pro\, sans-serif\; line-height: 1.45\; text-rendering: optimizeLegibility\; letter-spacing: 0.47999998927116394px\; caret-color: rgb(84\, 102\, 108)\; color: rgb(84\, 102\, 108)\;">Don&rsquo\;t miss the hunt for the &ldquo\;Pot of Gold&rdquo\; along Gnome Trail or cross-walk chalk art on the corner of Market and Meriweather.</p>\n
LOCATION:Seabrook Pacific Beach\, WA
UID:e.26.11622
SEQUENCE:3
DTSTAMP:20260424T163126Z
URL:https://chamber.graysharbor.org/events/details/shenanigans-fest-11622
END:VEVENT

END:VCALENDAR
