BEGIN:VCALENDAR
VERSION:2.0
PRODID:-//ChamberMaster//Event Calendar 2.0//EN
METHOD:PUBLISH
X-PUBLISHED-TTL:P3D
REFRESH-INTERVAL:P3D
CALSCALE:GREGORIAN
BEGIN:VEVENT
DTSTART:20200314T200000Z
DTEND:20200314T220000Z
X-MICROSOFT-CDO-ALLDAYEVENT:FALSE
SUMMARY:Shenanigans Fest
DESCRIPTION:Celebrate the patron saint of Ireland at Seabrook with Shenanigans Fest.\n\nSport your green and follow along in the shenanigans. Parade start time 1:00 in front of Town Hall\, follow the leprechaun.
X-ALT-DESC;FMTTYPE=text/html:<p style="font-size: 16px\; box-sizing: border-box\; margin: 0px 0px 1.25em\; padding: 0px\; direction: ltr\; font-family: myriad-pro\, sans-serif\; line-height: 1.45\; text-rendering: optimizeLegibility\; letter-spacing: 0.47999998927116394px\; caret-color: rgb(84\, 102\, 108)\; color: rgb(84\, 102\, 108)\;"><span style="color:#000000\;"><span style="font-size:14px\;"><span style="font-family:arial\;">Celebrate the patron saint of Ireland at Seabrook with Shenanigans Fest.</span></span></span></p>\n\n<p style="font-size: 16px\; box-sizing: border-box\; margin: 0px 0px 1.25em\; padding: 0px\; direction: ltr\; font-family: myriad-pro\, sans-serif\; line-height: 1.45\; text-rendering: optimizeLegibility\; letter-spacing: 0.47999998927116394px\; caret-color: rgb(84\, 102\, 108)\; color: rgb(84\, 102\, 108)\;"><span style="color:#000000\;"><span style="font-size:14px\;"><span style="font-family:arial\;"><span style="box-sizing: border-box\; line-height: 1.45\;">Sport your green and follow along in the shenanigans. Parade start time 1:00 in front of Town Hall\, follow the leprechaun.</span></span></span></span></p>\n
LOCATION:4275 SR 109Pacific Beach\, WA
UID:e.26.12458
SEQUENCE:3
DTSTAMP:20260424T055829Z
URL:https://chamber.graysharbor.org/events/details/shenanigans-fest-12458
END:VEVENT

END:VCALENDAR
