BEGIN:VCALENDAR
VERSION:2.0
PRODID:-//ChamberMaster//Event Calendar 2.0//EN
METHOD:PUBLISH
X-PUBLISHED-TTL:P3D
REFRESH-INTERVAL:P3D
CALSCALE:GREGORIAN
BEGIN:VEVENT
DTSTART:20170908T200000Z
DTEND:20170909T000000Z
X-MICROSOFT-CDO-ALLDAYEVENT:FALSE
SUMMARY:Shoalwater Bay Museum and Library Grand Opening
DESCRIPTION:Come see Shoalwater Bay Indian Tribe's newest addition to the area\; a cultural museum and library! Our library has moved to a new location across the street from the Shoalwater Bay Casino. Cake and beverages will be served.
X-ALT-DESC;FMTTYPE=text/html:Come see Shoalwater Bay Indian Tribe&#39\;s newest addition to the area\; a cultural museum and library! Our library has moved to a new location across the street from the Shoalwater Bay Casino. Cake and beverages will be served.
LOCATION:4115 WA-105
UID:e.26.8186
SEQUENCE:3
DTSTAMP:20260425T230744Z
URL:https://chamber.graysharbor.org/events/details/shoalwater-bay-museum-and-library-grand-opening-8186
END:VEVENT

END:VCALENDAR
