BEGIN:VCALENDAR
VERSION:2.0
PRODID:-//ChamberMaster//Event Calendar 2.0//EN
METHOD:PUBLISH
X-PUBLISHED-TTL:P3D
REFRESH-INTERVAL:P3D
CALSCALE:GREGORIAN
BEGIN:VEVENT
DTSTART:20190605T213000Z
DTEND:20190605T230000Z
X-MICROSOFT-CDO-ALLDAYEVENT:FALSE
SUMMARY:Shoppes at Riverside Double Ribbon Cutting
DESCRIPTION:GGHI will be performing a double ribbon cutting in the booming Shoppes at Riverside (1017 S Boone St)! The first ribbon cutting will be at Rancho Allegre\, Suite 112 next to High Impact Dance and the second will be for Kristen's Boujee Boutique\, in Suite 066 across from Stullick Jewelers and near the Extreme Fun Center.\n\n \n\nThe first ribbon cutting will take place at 2:30 pm and the second will be at 3:00 pm\, on Wednesday\, June 5th! There will be a grand opening sale and refreshments\, and we'd love to see you there!
X-ALT-DESC;FMTTYPE=text/html:GGHI will be performing a&nbsp\;<u>double</u>&nbsp\;ribbon cutting in the booming Shoppes at Riverside (1017 S Boone St)! The first ribbon cutting will be at <strong>Rancho Allegre</strong>\, Suite 112 next to High Impact Dance and the second will be for <strong>Kristen&rsquo\;s Boujee Boutique</strong>\, in Suite 066 across from Stullick Jewelers and near the Extreme Fun Center.<br />\n&nbsp\;<br />\nThe first ribbon cutting will take place at 2:30 pm and the second will be at 3:00 pm\, on Wednesday\, June 5<sup>th</sup>! There will be a grand opening sale and refreshments\, and we&#39\;d love to see you there!
LOCATION:Kristen's Boujee Boutique Ste. 066 Rancho Allegre\, Suite 112 Shoppes at Riverside - Aberdeen\, WA
UID:e.26.12034
SEQUENCE:3
DTSTAMP:20260424T120159Z
URL:https://chamber.graysharbor.org/events/details/shoppes-at-riverside-double-ribbon-cutting-12034
END:VEVENT

END:VCALENDAR
