BEGIN:VCALENDAR
VERSION:2.0
PRODID:-//ChamberMaster//Event Calendar 2.0//EN
METHOD:PUBLISH
X-PUBLISHED-TTL:P3D
REFRESH-INTERVAL:P3D
CALSCALE:GREGORIAN
BEGIN:VEVENT
DTSTART:20191130T180000Z
DTEND:20191201T020000Z
X-MICROSOFT-CDO-ALLDAYEVENT:FALSE
SUMMARY:Shoppes at Riverside Holiday Bazaar
DESCRIPTION:Get your holiday shopping started at the Shoppes at Riverside Holiday Bazaar!
X-ALT-DESC;FMTTYPE=text/html:<span style="font-size:14px\;">Get your holiday shopping started at the Shoppes at Riverside Holiday Bazaar!</span>
LOCATION:1017 S Boone St Aberdeen\, Washington 98520
UID:e.26.12270
SEQUENCE:3
DTSTAMP:20260424T060139Z
URL:https://chamber.graysharbor.org/events/details/shoppes-at-riverside-holiday-bazaar-12270
END:VEVENT

END:VCALENDAR
