BEGIN:VCALENDAR
VERSION:2.0
PRODID:-//ChamberMaster//Event Calendar 2.0//EN
METHOD:PUBLISH
X-PUBLISHED-TTL:P3D
REFRESH-INTERVAL:P3D
CALSCALE:GREGORIAN
BEGIN:VEVENT
DTSTART:20170819T000000Z
DTEND:20170819T030000Z
X-MICROSOFT-CDO-ALLDAYEVENT:FALSE
SUMMARY:Show and Silent Auction "Aligning Light & Shadow"
DESCRIPTION:Sure to be a fun and lively evening! Join us for this special juried art show and silent auction of works inspired by the 2017 Solar Eclipse. See wonderful new pieces created just for this event\, while enjoying frosty adult beverages\, munchies\, music by Abraham Neuwelt...and outbidding your friends and neighbors! Admission is free\, 21 and over only. Don't miss the fun! Open call for artists\, visit WestportArtFestival.org. (501c3)
X-ALT-DESC;FMTTYPE=text/html:<span style="color: rgb(75\, 79\, 86)\; font-family: Helvetica\, Arial\, sans-serif\; font-size: 14px\; background-color: rgb(255\, 255\, 255)\;">Sure to be a fun and lively evening! Join us for this special juried art show and silent auction of works inspired by the 2017 Solar Eclipse. See wonderful new pieces created just for this event\, while enjoying frosty adult beverages\, munchies\, music by Abraham Neuwelt...and outbidding your friends and neighbors! Admission is free\, 21 and over only. Don&#39\;t miss the fun! Open call for artists\, visit&nbsp\;</span><a href="https://l.facebook.com/l.php?u=http%3A%2F%2FWestportArtFestival.org%2F&amp\;h=ATNeDdYmjB4sOSy5rGhgjcqFYbyPkwrtEF94l5VCMwyyv-Qa6eVwMwVs5R-Nr39QWF0Zayu5UqXqUo1hBaGxUAddI5F_vrNRhQka7Wsr7PUDIAcZRRdSBlQ0SKvXV91vIKTdnZlWPhy4NuXCu_ozDTT1v3wX&amp\;enc=AZNOwuCphcJwuIc_Iq2omh37lSP3sl1h9IdhSQqeT6Ag7U96iqbtJPpWYaqq1ZieoT0&amp\;s=1" rel="nofollow noopener nofollow" style="color: rgb(54\, 88\, 153)\; cursor: pointer\; text-decoration-line: none\; font-family: Helvetica\, Arial\, sans-serif\; font-size: 14px\; background-color: rgb(255\, 255\, 255)\;" target="_blank">WestportArtFestival.org.</a><span style="color: rgb(75\, 79\, 86)\; font-family: Helvetica\, Arial\, sans-serif\; font-size: 14px\; background-color: rgb(255\, 255\, 255)\;">&nbsp\;(501c3)</span>
LOCATION:Westport Art Festival Westhaven St. Westport\, WA
UID:e.26.8157
SEQUENCE:3
DTSTAMP:20260425T230156Z
URL:https://chamber.graysharbor.org/events/details/show-and-silent-auction-aligning-light-shadow-8157
END:VEVENT

END:VCALENDAR
