BEGIN:VCALENDAR
VERSION:2.0
PRODID:-//ChamberMaster//Event Calendar 2.0//EN
METHOD:PUBLISH
X-PUBLISHED-TTL:P3D
REFRESH-INTERVAL:P3D
CALSCALE:GREGORIAN
BEGIN:VEVENT
DTSTART;VALUE=DATE:20191004
DTEND;VALUE=DATE:20191006
TRANSP:TRANSPARENT
X-MICROSOFT-CDO-ALLDAYEVENT:TRUE
SUMMARY:Show N Shine at The Shores
DESCRIPTION:The Show N Shine at The Shores will take place over October 4th - 5th at the Quinault Beach Resort and Casino in Beautiful Ocean Shores! There will be $3000 in cash and prizes and a special guest appearance by Lance Lambert.\n\nSponsored by the Pushrods Of Hoquiam\n\nRegister at the show or online at www.pushrods.org
X-ALT-DESC;FMTTYPE=text/html:<h3 style="font-family: Arial\, sans-serif\; box-sizing: border-box\; line-height: 1.5\; margin: 0px 0px 5px\; text-align: center\;"><span style="font-size:14px\;"><span style="font-family:arial\;">The Show N Shine at The Shores will take place over&nbsp\;October 4th - 5th at the Quinault Beach Resort and Casino in Beautiful Ocean Shores! There will be&nbsp\;$3000 in cash and prizes and a special guest appearance by Lance Lambert.</span></span></h3>\n\n<div style="text-align: left\;"><span style="font-size:14px\;"><span style="font-family:arial\;"><span style="color: rgb(17\, 17\, 17)\;"><i>Sponsored by the Pushrods Of Hoquiam</i></span></span></span></div>\n\n<h2 style="font-family: Arial\, sans-serif\; box-sizing: border-box\; line-height: 1.5\; color: rgb(17\, 17\, 17)\; margin: 0px 0px 5px\;"><span style="font-size:14px\;"><span style="font-family:arial\;">Register at the show or online at&nbsp\;<a href="http://www.pushrods.org/" style="text-decoration: none\; color: rgb(5\, 4\, 4)\; box-sizing: border-box\; background-color: transparent\;" target="_blank" title="Car Show Registration">www.pushrods.org</a></span></span></h2>\n
LOCATION:Quinault Beach Resort and Casino Ocean Shores\, WA
UID:e.26.12155
SEQUENCE:3
DTSTAMP:20260424T074116Z
URL:https://chamber.graysharbor.org/events/details/show-n-shine-at-the-shores-12155
END:VEVENT

END:VCALENDAR
