BEGIN:VCALENDAR
VERSION:2.0
PRODID:-//ChamberMaster//Event Calendar 2.0//EN
METHOD:PUBLISH
X-PUBLISHED-TTL:P3D
REFRESH-INTERVAL:P3D
CALSCALE:GREGORIAN
BEGIN:VEVENT
DTSTART:20240913T150000Z
DTEND:20240913T230000Z
X-MICROSOFT-CDO-ALLDAYEVENT:FALSE
SUMMARY:Showcase Grays Harbor 2024
DESCRIPTION:Greater Grays Harbor\, Inc. (GGHI) is thrilled to announce the 2024 return of Showcase Grays Harbor! Climb aboard Grays Harbor Transit busses and receive an exclusive tour of industries in Grays Harbor's port cities. This day-long tour sells out each year\, so be sure to purchase your ticket well in advance to be one of the lucky individuals onboard this year's tour!\n\n\n\nCurrent confirmed itinerary:\n\n	\n	Morning Tours:\n	\n	Take part in an exclusive tour of the Port of Grays Harbor's marine terminals as well as hear about their continued growth and massive T4 expansion\n	Simulation demonstrations of a real-life emergency from Life Flight Network\, Grays Harbor's critical care transport\, in conjunction with the Hoquiam Fire Department\n	\n	Lunch Break:\n	\n	Catered lunch at the Rotary Log Pavilion by Kit's Catering Kitchen\n	Four lucky participants will win a local gift card basket - Winners announced at lunch!\n	Lunch presenters announced soon!\n	\n	Afternoon Tours:\n	\n	Explore the award-winning operations at Westport Winery and enjoy a complimentary wine tasting and visit to the International Mermaid Museum\n	Receive an inside look at the state-of-the-art tulalW Center at Grays Harbor College and understand the opportunities it brings to the community
X-ALT-DESC;FMTTYPE=text/html:<span style="font-size:14px\;"><span style="font-family:arial\;">Greater Grays Harbor\, Inc. (GGHI) is thrilled to announce the 2024 return of Showcase Grays Harbor! Climb aboard Grays Harbor Transit busses and receive an exclusive tour of industries in Grays Harbor&#39\;s port cities. This day-long tour sells out each year\, so be sure to purchase your ticket well in advance to be one of the lucky individuals onboard this year&#39\;s tour!<br />\n<br />\n<span style="font-size:16px\;"><u><strong>Current confirmed itinerary:</strong></u></span></span></span>\n<ul>\n	<li>\n	<p align="left" class="indent--1" style="margin: 0px\; padding: 0px\; color: rgb(82\, 74\, 75)\; font-family: Arial\, Verdana\, Helvetica\, sans-serif\; font-size: 14px\;"><span style="font-size:14px\;"><span style="color: rgb(38\, 97\, 109)\; font-weight: bold\; text-decoration-line: underline\;">Morning Tours:</span></span></p>\n	</li>\n	<li style="padding: 0px\; margin: 0px\; font-size: 18px\; color: rgb(0\, 0\, 0)\; text-align: left\; list-style-position: unset\;"><span style="font-size:14px\;">Take part in an exclusive tour of the&nbsp\;Port of Grays Harbor&#39\;s marine terminals as well as hear about their continued growth and massive T4 expansion</span></li>\n	<li style="padding: 0px\; margin: 0px\; text-align: left\; font-size: 18px\; color: rgb(0\, 0\, 0)\; list-style-position: unset\;"><span style="font-size:14px\;">Simulation demonstrations of a real-life emergency from&nbsp\;Life Flight Network\, Grays Harbor&#39\;s critical care transport\, in conjunction with the Hoquiam Fire Department</span></li>\n	<li>\n	<p align="left" style="margin: 0px\; padding: 0px\; color: rgb(82\, 74\, 75)\; font-family: Arial\, Verdana\, Helvetica\, sans-serif\; font-size: 14px\;"><span style="font-size:14px\;"><span style="color: rgb(38\, 97\, 109)\; font-weight: bold\; text-decoration-line: underline\;">Lunch Break:</span></span></p>\n	</li>\n	<li style="padding: 0px\; margin: 0px\; font-size: 18px\; color: rgb(0\, 0\, 0)\; text-align: left\; list-style-position: unset\;"><span style="font-size:14px\;">Catered lunch at the Rotary Log Pavilion by Kit&#39\;s Catering Kitchen</span></li>\n	<li style="padding: 0px\; margin: 0px\; font-size: 18px\; color: rgb(0\, 0\, 0)\; text-align: left\; list-style-position: unset\;"><em><strong><span style="font-size:14px\;">Four lucky participants will win a local gift card basket - Winners&nbsp\;announced at lunch!</span></strong></em></li>\n	<li style="padding: 0px\; margin: 0px\; font-size: 18px\; color: rgb(0\, 0\, 0)\; text-align: left\; list-style-position: unset\;"><em><span style="font-size:14px\;">Lunch presenters announced soon!</span></em></li>\n	<li>\n	<p align="left" style="margin: 0px\; padding: 0px\; color: rgb(82\, 74\, 75)\; font-family: Arial\, Verdana\, Helvetica\, sans-serif\; font-size: 14px\;"><span style="font-size:14px\;"><span style="color: rgb(38\, 97\, 109)\; font-weight: bold\; text-decoration-line: underline\;">Afternoon Tours:</span></span></p>\n	</li>\n	<li style="padding: 0px\; margin: 0px\; text-align: left\; font-size: 18px\; color: rgb(0\, 0\, 0)\; list-style-position: unset\;"><span style="font-size:14px\;">Explore the award-winning operations at Westport Winery and enjoy a complimentary wine tasting and visit to the International Mermaid Museum</span></li>\n	<li style="padding: 0px\; margin: 0px\; font-size: 18px\; color: rgb(36\, 36\, 36)\; text-align: left\; list-style-position: unset\;"><span style="font-size:14px\;">Receive an inside look at the state-of-the-art&nbsp\;tulalW Center at Grays Harbor College and understand the opportunities it brings to the community </span></li>\n</ul>\n
LOCATION:Tour Start/End Location: Port of Grays Harbor's Main Office - Commission Room 111 S Wooding St. Aberdeen\, WA
UID:e.26.14421
SEQUENCE:3
DTSTAMP:20260423T174123Z
URL:https://chamber.graysharbor.org/events/details/showcase-grays-harbor-2024-14421
END:VEVENT

END:VCALENDAR
