BEGIN:VCALENDAR
VERSION:2.0
PRODID:-//ChamberMaster//Event Calendar 2.0//EN
METHOD:PUBLISH
X-PUBLISHED-TTL:P3D
REFRESH-INTERVAL:P3D
CALSCALE:GREGORIAN
BEGIN:VEVENT
DTSTART:20200222T160000Z
DTEND:20200222T200000Z
X-MICROSOFT-CDO-ALLDAYEVENT:FALSE
SUMMARY:Shrove Day Pancake Race
DESCRIPTION:Still figuring out what you're doing Saturday morning? Come out for a morning of dashing and pancakes!\n\n\n\nOur Shrove Day Pancake Race features several race categories: Competitive Dash\, Kid Dash(es)\, and new this year - the Business/Organization Dash. We're adding a competitive edge this year and the company or organization that brings out the most dashers will win a prize. You don't have to work for the business/organization\, and you don't have to win the race. Every racer counts! The business/organization with the most dashers wins a prize.\n\n\n\nBring a frying pan. Pancakes will be provided. Costumes are encouraged. Prizes will be awarded to 1st\, 2nd\, and second-to-last place finishers for each dash\, best costume\, and the company/organization with the most dashers.\n\n\n\nStrollers and dogs on leashes are not allowed on the course.\n\nAll race proceeds support the work of the McCleary Civic Renewal Council.
X-ALT-DESC;FMTTYPE=text/html:<span style="font-size: 12pt\; line-height: 24px\; font-family: Helvetica\, sans-serif\; color: rgb(80\, 80\, 80)\;">Still figuring out what you&#39\;re doing Saturday morning? Come out for a morning of dashing and pancakes!<br />\n<br />\nOur Shrove Day Pancake Race features several race categories: Competitive Dash\, Kid Dash(es)\, and new this year - the Business/Organization Dash. We&#39\;re adding a competitive edge this year and the company or organization that brings out the most dashers will win a prize. You don&#39\;t have to work for the business/organization\, and you don&rsquo\;t have to win the race. Every racer counts! The business/organization with the most dashers wins a prize.</span><br />\n<br />\n<span style="font-size: 12pt\; line-height: 24px\; font-family: Helvetica\, sans-serif\; color: rgb(80\, 80\, 80)\;"><strong>Bring a frying pan.</strong>&nbsp\;Pancakes will be provided. Costumes are encouraged. Prizes will be awarded to 1st\, 2nd\, and second-to-last place finishers for each dash\, best costume\, and the company/organization with the most dashers.<br />\n<br />\n<strong>Strollers and dogs on leashes are not allowed on the course.</strong><br />\nAll race proceeds support the work of the McCleary Civic Renewal Council.</span>
LOCATION:Race route. Start line will be at the McCleary VFW\, and runners will run to City Hall and back. Course length is just over a quarter of a mile or roughly 1\,400 feet. pin McCleary VFW Hall 158 N Summit Rd.\, McCleary\, Washington 98557
UID:e.26.12438
SEQUENCE:3
DTSTAMP:20260424T042027Z
URL:https://chamber.graysharbor.org/events/details/shrove-day-pancake-race-12438
END:VEVENT

END:VCALENDAR
