BEGIN:VCALENDAR
VERSION:2.0
PRODID:-//ChamberMaster//Event Calendar 2.0//EN
METHOD:PUBLISH
X-PUBLISHED-TTL:P3D
REFRESH-INTERVAL:P3D
CALSCALE:GREGORIAN
BEGIN:VEVENT
DTSTART:20170930T150000Z
DTEND:20170930T210000Z
X-MICROSOFT-CDO-ALLDAYEVENT:FALSE
SUMMARY:Silent Auction Habitat for Humanity
DESCRIPTION:Silent Auction Habitat for Humanity\nSupport the local non profit Habitat for Humanity by stopping by and bidding on donated items! \n\nWe will be running the auction all day! \n\n8:00am-2:00pm\n\nJillian Kilwien from Habitat for Humanity will be visiting between 10:00am - 1:00pm to answer any questions you may have about the organization!
X-ALT-DESC;FMTTYPE=text/html:<h1 class="_5gmx" data-testid="event-permalink-event-name" id="seo_h1_tag" style="color: rgb(29\, 33\, 41)\; font-size: 20px\; margin: 0px 12px 0px 0px\; padding: 0px\; font-weight: normal\; line-height: 28px\; font-family: Helvetica\, Arial\, sans-serif\; background-color: rgb(255\, 255\, 255)\;">Silent Auction Habitat for Humanity</h1>\n<span style="color: rgb(75\, 79\, 86)\; font-family: Helvetica\, Arial\, sans-serif\; font-size: 14px\; background-color: rgb(255\, 255\, 255)\;">Support the local non profit Habitat for Humanity by stopping by and bidding on donated items!&nbsp\;</span><br style="color: rgb(75\, 79\, 86)\; font-family: Helvetica\, Arial\, sans-serif\; font-size: 14px\; background-color: rgb(255\, 255\, 255)\;" />\n<span style="color: rgb(75\, 79\, 86)\; font-family: Helvetica\, Arial\, sans-serif\; font-size: 14px\; background-color: rgb(255\, 255\, 255)\;">We will be running the auction all day!&nbsp\;</span><br style="color: rgb(75\, 79\, 86)\; font-family: Helvetica\, Arial\, sans-serif\; font-size: 14px\; background-color: rgb(255\, 255\, 255)\;" />\n<span style="color: rgb(75\, 79\, 86)\; font-family: Helvetica\, Arial\, sans-serif\; font-size: 14px\; background-color: rgb(255\, 255\, 255)\;">8:00am-2:00pm</span><br style="color: rgb(75\, 79\, 86)\; font-family: Helvetica\, Arial\, sans-serif\; font-size: 14px\; background-color: rgb(255\, 255\, 255)\;" />\n<span style="color: rgb(75\, 79\, 86)\; font-family: Helvetica\, Arial\, sans-serif\; font-size: 14px\; background-color: rgb(255\, 255\, 255)\;">Jillian Kilwien from Habitat for Humanity will be visiting between 10:00am - 1:00pm to answer any questions you may have about the organization!</span>
LOCATION:Tinderbox Coffee Roasters 113 E Wishkah St. Aberdeen\, WA
UID:e.26.8239
SEQUENCE:3
DTSTAMP:20260425T213816Z
URL:https://chamber.graysharbor.org/events/details/silent-auction-habitat-for-humanity-8239
END:VEVENT

END:VCALENDAR
