BEGIN:VCALENDAR
VERSION:2.0
PRODID:-//ChamberMaster//Event Calendar 2.0//EN
METHOD:PUBLISH
X-PUBLISHED-TTL:P3D
REFRESH-INTERVAL:P3D
CALSCALE:GREGORIAN
BEGIN:VEVENT
DTSTART:20180318T010000Z
DTEND:20180318T040000Z
X-MICROSOFT-CDO-ALLDAYEVENT:FALSE
SUMMARY:Silent/Live Auction & Baked Potato Bar
DESCRIPTION:Come on out and have fun at our Annual Baked Potato Dinner with a live & silent auction! All money raised will go towards putting on the 59th Annual Bear Festival this summer. Have an item you would like to donate? Let the Bear Festival know!
X-ALT-DESC;FMTTYPE=text/html:<span style="color: rgb(75\, 79\, 86)\; font-family: Helvetica\, Arial\, sans-serif\; font-size: 14px\; background-color: rgb(255\, 255\, 255)\;">Come on out and have fun at our Annual Baked Potato Dinner with a live &amp\; silent auction! All money raised will go towards putting on the 59th Annual Bear Festival this summer. Have an item you would like to donate? Let the Bear Festival know!</span>
LOCATION:McCleary VFW 158 N Summit Rd. McCleary
UID:e.26.9446
SEQUENCE:3
DTSTAMP:20260425T115607Z
URL:https://chamber.graysharbor.org/events/details/silent-live-auction-baked-potato-bar-9446
END:VEVENT

END:VCALENDAR
