BEGIN:VCALENDAR
VERSION:2.0
PRODID:-//ChamberMaster//Event Calendar 2.0//EN
METHOD:PUBLISH
X-PUBLISHED-TTL:P3D
REFRESH-INTERVAL:P3D
CALSCALE:GREGORIAN
BEGIN:VEVENT
DTSTART:20201205T190000Z
DTEND:20201207T000000Z
X-MICROSOFT-CDO-ALLDAYEVENT:FALSE
SUMMARY:Simpson Santa Special
DESCRIPTION:Take a ride on the Simpson Railroad around the 2.25mile loop on of our historic speeder or newly added trailer car. Each ride includes a stop at Santa's work shop. There you can sit next to Santa on the porch of his work shop and chat your Christmas wishes. And warm up next to the bon fire before returning. Dates: December 5th/6th 12th/13th Hours 11am-4pm
X-ALT-DESC;FMTTYPE=text/html:Take a ride on the Simpson Railroad around the 2.25mile loop on of our historic speeder or newly added trailer car. Each ride includes a stop at Santa&#39\;s work shop. There you can sit next to Santa on the porch of his work shop and chat your Christmas wishes. And warm up next to the bon fire before returning. Dates: December 5th/6th 12th/13th Hours 11am-4pm
LOCATION:Simpson railroad 10138 Shelton Matlock RD Shelton Wa 98584
UID:e.26.12536
SEQUENCE:3
DTSTAMP:20260424T055854Z
URL:https://chamber.graysharbor.org/events/details/simpson-santa-special-12536
END:VEVENT

END:VCALENDAR
