BEGIN:VCALENDAR
VERSION:2.0
PRODID:-//ChamberMaster//Event Calendar 2.0//EN
METHOD:PUBLISH
X-PUBLISHED-TTL:P3D
REFRESH-INTERVAL:P3D
CALSCALE:GREGORIAN
BEGIN:VEVENT
DTSTART:20181209T033000Z
DTEND:20181209T050000Z
X-MICROSOFT-CDO-ALLDAYEVENT:FALSE
SUMMARY:Six Appeal - Vocal Band
DESCRIPTION:Six Appeal invites you to their Holiday Ugly Sweater Party\, and encourages you to wear your ugliest sweater! This award winning\, electrifying\, a cappella performance will include holiday tunes\, multiple decades of genres of musical prowess and sharp comedic timing. Their energy and vitality create an incredible show!
X-ALT-DESC;FMTTYPE=text/html:<b><font color="#292b2c">Six Appeal</font></b><span style="display: inline !important\; float: none\; background-color: transparent\; color: rgb(41\, 43\, 44)\; font-family: &quot\;Lato&quot\;\,sans-serif\; font-size: 16px\; font-style: normal\; font-variant: normal\; font-weight: 400\; letter-spacing: normal\; orphans: 2\; text-align: left\; text-decoration: none\; text-indent: 0px\; text-transform: none\; -webkit-text-stroke-width: 0px\; white-space: normal\; word-spacing: 0px\;"> invites you to their </span><strong style="background-color: transparent\; box-sizing: border-box\; color: rgb(41\, 43\, 44)\; font-family: &amp\;quot\;Lato&amp\;quot\;\,sans-serif\; font-size: 16px\; font-style: normal\; font-variant: normal\; font-weight: 700\; letter-spacing: normal\; orphans: 2\; text-align: left\; text-decoration: none\; text-indent: 0px\; text-transform: none\; -webkit-text-stroke-width: 0px\; white-space: normal\; word-spacing: 0px\;">Holiday Ugly Sweater Party</strong><span style="display: inline !important\; float: none\; background-color: transparent\; color: rgb(41\, 43\, 44)\; font-family: &quot\;Lato&quot\;\,sans-serif\; font-size: 16px\; font-style: normal\; font-variant: normal\; font-weight: 400\; letter-spacing: normal\; orphans: 2\; text-align: left\; text-decoration: none\; text-indent: 0px\; text-transform: none\; -webkit-text-stroke-width: 0px\; white-space: normal\; word-spacing: 0px\;">\, and encourages you to wear your ugliest sweater! This award winning\, electrifying\, a cappella performance will include holiday tunes\, multiple decades of genres of musical prowess and sharp comedic timing. Their energy and vitality create an incredible show!</span>
LOCATION:Bishop Center for the Performing Arts 1620 Edward P Smith Dr. Aberdeen\, WA
UID:e.26.11341
SEQUENCE:3
DTSTAMP:20260424T210736Z
URL:https://chamber.graysharbor.org/events/details/six-appeal-vocal-band-11341
END:VEVENT

END:VCALENDAR
